BEGIN:VCALENDAR
VERSION:2.0
PRODID:-//ChamberMaster//Event Calendar 2.0//EN
METHOD:PUBLISH
X-PUBLISHED-TTL:P3D
REFRESH-INTERVAL:P3D
CALSCALE:GREGORIAN
BEGIN:VEVENT
DTSTART:20250517T190000Z
DTEND:20250517T220000Z
X-MICROSOFT-CDO-ALLDAYEVENT:FALSE
SUMMARY:The Baron Brew Fest
DESCRIPTION:Join us for the 3rd Annual Baron Brew Fest in Market Square! More information can be found on our events website\, www.lovemanheim.com/brewfest
X-ALT-DESC;FMTTYPE=text/html:Join us for the 3rd Annual Baron Brew Fest in Market Square! More information can be found on our events website\, www.lovemanheim.com/brewfest<br />\n<br />\n&nbsp\;
LOCATION:
UID:e.3375.1720
SEQUENCE:3
DTSTAMP:20260424T191104Z
URL:https://business.manheimchamber.com/events/details/the-baron-brew-fest-1720
END:VEVENT

END:VCALENDAR
