BEGIN:VCALENDAR
VERSION:2.0
PRODID:-//ChamberMaster//Event Calendar 2.0//EN
METHOD:PUBLISH
X-PUBLISHED-TTL:P3D
REFRESH-INTERVAL:P3D
CALSCALE:GREGORIAN
BEGIN:VEVENT
DTSTART:20240413T140000Z
DTEND:20240413T160000Z
X-MICROSOFT-CDO-ALLDAYEVENT:FALSE
SUMMARY:Spring Clean Up
DESCRIPTION:Spring Clean up: Manheim Borough\n\nWe will provide gloves\, trash bags and safety vests. Wear comfortable\n\nclothing.
X-ALT-DESC;FMTTYPE=text/html:Spring Clean up: Manheim Borough<br />\nWe will provide gloves\, trash bags and safety vests. Wear comfortable<br />\nclothing.
LOCATION:We will concentrate on Market Square and the surrounding blocks
UID:e.3375.1566
SEQUENCE:3
DTSTAMP:20260425T145836Z
URL:https://business.manheimchamber.com/events/details/spring-clean-up-1566
END:VEVENT

END:VCALENDAR
