BEGIN:VCALENDAR
VERSION:2.0
PRODID:-//ChamberMaster//Event Calendar 2.0//EN
METHOD:PUBLISH
X-PUBLISHED-TTL:P3D
REFRESH-INTERVAL:P3D
CALSCALE:GREGORIAN
BEGIN:VEVENT
DTSTART:20251105T180000Z
DTEND:20251105T181500Z
X-MICROSOFT-CDO-ALLDAYEVENT:FALSE
SUMMARY:Mural Ribbon Cutting
DESCRIPTION:Join us as we celebrate our newest mural project at 10 Market Square! We believe in the benefit of public art to help enhance the aesthetic appeal of our downtown area\, foster local pride\, and attract visitors to Manheim.
X-ALT-DESC;FMTTYPE=text/html:<span style="color: rgb(8\, 8\, 9)\; font-family: &quot\;Segoe UI Historic&quot\;\, &quot\;Segoe UI&quot\;\, Helvetica\, Arial\, sans-serif\; font-size: 11.25px\; background-color: rgb(255\, 255\, 255)\;">Join us as we celebrate our newest mural project at 10 Market Square! We believe in the benefit of public art to help enhance the aesthetic appeal of our downtown area\, foster local pride\, and attract visitors to Manheim.</span>
LOCATION:10 Market Square\, Manheim PA 17545
UID:e.3375.1747
SEQUENCE:3
DTSTAMP:20260425T035520Z
URL:https://business.manheimchamber.com/events/details/mural-ribbon-cutting-1747
END:VEVENT

END:VCALENDAR
