BEGIN:VCALENDAR
VERSION:2.0
PRODID:-//ChamberMaster//Event Calendar 2.0//EN
METHOD:PUBLISH
X-PUBLISHED-TTL:P3D
REFRESH-INTERVAL:P3D
CALSCALE:GREGORIAN
BEGIN:VEVENT
DTSTART:20240609T170000Z
DTEND:20240609T200000Z
X-MICROSOFT-CDO-ALLDAYEVENT:FALSE
SUMMARY:Manheim Historical Society - KID FAIR
DESCRIPTION:At our Fasig and Keath Log Homes - Nick DiSanto One-Man Band (from 2:00-4:00)\, Face Panting\, Story Stroll\, Story Houe @ 1:15 & 3:15\, Keystone Wildlife Display\, Northern Lancaster County Forest Fire Co. display\, Story Stroll (in collaboration with the Manheim Library)\, crafts\, Colonial-type games\, and other activities.
X-ALT-DESC;FMTTYPE=text/html:At our Fasig and Keath Log Homes - Nick DiSanto One-Man Band (from 2:00-4:00)\, Face Panting\, Story Stroll\, Story Houe @ 1:15 &amp\; 3:15\, Keystone Wildlife Display\, Northern Lancaster County Forest Fire Co. display\, Story Stroll (in collaboration with the Manheim Library)\, crafts\, Colonial-type games\, and other activities.
LOCATION:30-32 East High Street\, Manheim PA
UID:e.3375.1636
SEQUENCE:3
DTSTAMP:20260425T132923Z
URL:https://business.manheimchamber.com/events/details/manheim-historical-society-kid-fair-1636
END:VEVENT

END:VCALENDAR
