BEGIN:VCALENDAR
VERSION:2.0
PRODID:-//ChamberMaster//Event Calendar 2.0//EN
METHOD:PUBLISH
X-PUBLISHED-TTL:P3D
REFRESH-INTERVAL:P3D
CALSCALE:GREGORIAN
BEGIN:VEVENT
DTSTART:20240630T170000Z
DTEND:20240630T200000Z
X-MICROSOFT-CDO-ALLDAYEVENT:FALSE
SUMMARY:Manheim Historical Society - "A Conversation with Ben Franklin" plus Reenactors
DESCRIPTION:Craig Hall will present "A Living History of One of America's Most Beloved Founders" at 2:00. A German Regiment of the Continental Army Reenactors will also be at our railroad station complex.  Free tours of our train station (closed during the presentation)\, model train exhibit\, and trolley rides (weather permitting) are available.
X-ALT-DESC;FMTTYPE=text/html:Craig Hall will present &quot\;A Living History of One of America&#39\;s Most Beloved Founders&quot\; at <strong>2:00</strong>. A German Regiment of the Continental Army Reenactors will also be&nbsp\;at our railroad station complex.&nbsp\; Free tours of our train station (closed during the presentation)\, model train exhibit\, and trolley rides (weather permitting) are available.
LOCATION:210 South Charlotte Street\, Manheim PA
UID:e.3375.1640
SEQUENCE:3
DTSTAMP:20260425T115220Z
URL:https://business.manheimchamber.com/events/details/manheim-historical-society-a-conversation-with-ben-franklin-plus-reenactors-1640
END:VEVENT

END:VCALENDAR
