BEGIN:VCALENDAR
VERSION:2.0
PRODID:-//ChamberMaster//Event Calendar 2.0//EN
METHOD:PUBLISH
X-PUBLISHED-TTL:P3D
REFRESH-INTERVAL:P3D
CALSCALE:GREGORIAN
BEGIN:VEVENT
DTSTART:20240616T170000Z
DTEND:20240616T200000Z
X-MICROSOFT-CDO-ALLDAYEVENT:FALSE
SUMMARY:Manheim Historical Society - 3rd Sunday at the Railroad Station Dowsing with Mike Gerhard
DESCRIPTION:"Dowsing\, Water Witching\, Rutengehen or Gift" - come hear Mike Gerhard talk about this interesting practice at 2:00 PM. Free tours of our station\, model train exhibit and trolley rides (weather permitting) are also available. NOTE: tours of the train station will be closed during Mike's presentation.
X-ALT-DESC;FMTTYPE=text/html:&quot\;Dowsing\, Water Witching\, Rutengehen or Gift&quot\; - come hear Mike Gerhard talk about this interesting practice at 2:00 PM. Free tours of our station\, model train exhibit and trolley rides (weather permitting) are also available. NOTE: tours of the train station will be closed during Mike&#39\;s presentation.
LOCATION:210 South Charlotte Street\, Manheim PA
UID:e.3375.1639
SEQUENCE:3
DTSTAMP:20260425T133043Z
URL:https://business.manheimchamber.com/events/details/manheim-historical-society-3rd-sunday-at-the-railroad-station-dowsing-with-mike-gerhard-1639
END:VEVENT

END:VCALENDAR
