BEGIN:VCALENDAR
VERSION:2.0
PRODID:-//ChamberMaster//Event Calendar 2.0//EN
METHOD:PUBLISH
X-PUBLISHED-TTL:P3D
REFRESH-INTERVAL:P3D
CALSCALE:GREGORIAN
BEGIN:VEVENT
DTSTART:20241212T220000Z
DTEND:20241213T000000Z
X-MICROSOFT-CDO-ALLDAYEVENT:FALSE
SUMMARY:Manheim After 5
DESCRIPTION:Join us for a fun evening of Networking with other Manheim Chamber Members as we cheers to the Holidays together!\n\n\n\nThank you to our Program Sponsors:
X-ALT-DESC;FMTTYPE=text/html:Join us for a fun evening of Networking with other Manheim Chamber&nbsp\;Members as we cheers to the Holidays together!<br />\n<br />\nThank you to our Program Sponsors:
LOCATION:Glasshouse Wineworks\, 8 S Charlotte St\, Manheim
UID:e.3375.1557
SEQUENCE:3
DTSTAMP:20260425T022053Z
URL:https://business.manheimchamber.com/events/details/manheim-after-5-1557
END:VEVENT

END:VCALENDAR
