BEGIN:VCALENDAR
VERSION:2.0
PRODID:-//ChamberMaster//Event Calendar 2.0//EN
METHOD:PUBLISH
X-PUBLISHED-TTL:P3D
REFRESH-INTERVAL:P3D
CALSCALE:GREGORIAN
BEGIN:VEVENT
DTSTART:20240627T210000Z
DTEND:20240627T230000Z
X-MICROSOFT-CDO-ALLDAYEVENT:FALSE
SUMMARY:Manheim After 5
DESCRIPTION:Join us for a fun evening of Networking at JBT! This month's Manheim After 5 will feature an informal\, drop in Small Business Expo where you can talk with experts in areas such as:\n\n Health Insurance\n\n Human Resources Services\n\n Beneficial Ownership Reporting\n\n Marketing\n\n Fraud Prevention and more!\n\n\n\nThank you to our Program Sponsors:
X-ALT-DESC;FMTTYPE=text/html:Join us for a fun evening of Networking at JBT! This month&#39\;s Manheim After 5 will feature an informal\, drop in Small Business Expo&nbsp\;where you can talk with experts in areas such as:<br />\n&nbsp\;Health Insurance<br />\n&nbsp\;Human Resources Services<br />\n&nbsp\;Beneficial Ownership Reporting<br />\n&nbsp\;Marketing<br />\n&nbsp\;Fraud Prevention and more!<br />\n<br />\nThank you to our Program Sponsors:
LOCATION:Jonestown Bank & Trust 1211 Lancaster Road Manheim\, PA 17545
UID:e.3375.1555
SEQUENCE:3
DTSTAMP:20260425T114951Z
URL:https://business.manheimchamber.com/events/details/manheim-after-5-1555
END:VEVENT

END:VCALENDAR
