BEGIN:VCALENDAR
VERSION:2.0
PRODID:-//ChamberMaster//Event Calendar 2.0//EN
METHOD:PUBLISH
X-PUBLISHED-TTL:P3D
REFRESH-INTERVAL:P3D
CALSCALE:GREGORIAN
BEGIN:VEVENT
DTSTART:20241112T164500Z
DTEND:20241112T180000Z
X-MICROSOFT-CDO-ALLDAYEVENT:FALSE
SUMMARY:Lunch & Learn: Transform Stress
DESCRIPTION:Join us for lunch and an informative session with Erika Lundgren\, M.S. of Wholethy Tribe Wellness!\n\n \nSTRESS. We can't avoid it - especially in our modern society. It's one of the top health concerns of the 21st century with a high percentage of primary care doctor's visits being due\, in part\, to chronic stress. Furthermore\, prolonged or chronic stress not only harms us physically\, but emotionally and mentally as well. This in turn affects how we show up for our love and life relationships\; including clients\, colleagues\, employees and most importantly ourselves. We suffer from the inside-out. \n\n \n\nIn our short time together\, let me offer you a few ways\, that you might not have heard or read before\, to start learning how to adapt through life's stressors\, or at least increase awareness where support might be needed\, to anchor yourself during life's challenges building resilience and bolstering your energy reserves to help enhance your life's vitality!\n\n\n\n\nThank you to our Program Sponsor:
X-ALT-DESC;FMTTYPE=text/html:<div><strong>Join us for lunch and an informative session with Erika Lundgren\, M.S. of Wholethy Tribe Wellness!</strong><br />\n&nbsp\;\n<div style="color: rgb(34\, 34\, 34)\; font-family: Arial\, Helvetica\, sans-serif\; font-size: small\; background-color: rgb(255\, 255\, 255)\;">STRESS. We can&rsquo\;t avoid it - especially in our modern society. It&rsquo\;s one of the top health concerns of the 21st century with a high percentage of primary care doctor&rsquo\;s visits being due\, in part\, to chronic stress. Furthermore\, prolonged or chronic stress not only harms us physically\, but emotionally and mentally as well. This in turn affects how we show up for our love and life relationships\; including clients\, colleagues\, employees and most importantly ourselves. We suffer from the inside-out.&nbsp\;</div>\n\n<div dir="auto" style="color: rgb(34\, 34\, 34)\; font-family: Arial\, Helvetica\, sans-serif\; font-size: small\; background-color: rgb(255\, 255\, 255)\;">&nbsp\;</div>\n\n<div dir="auto" style="color: rgb(34\, 34\, 34)\; font-family: Arial\, Helvetica\, sans-serif\; font-size: small\; background-color: rgb(255\, 255\, 255)\;">In our short time together\, let me offer you a few ways\, that you might not have heard or read before\, to start learning how to adapt through life&rsquo\;s stressors\, or at least increase awareness where support might be needed\, to anchor yourself during life&rsquo\;s challenges building resilience and bolstering your energy reserves to help enhance your life&rsquo\;s vitality!</div>\n<br />\n<br />\n<strong>Thank you to our Program Sponsor:</strong></div>\n
LOCATION:SUPPLY 280 S Oak Street\, Manheim
UID:e.3375.1553
SEQUENCE:3
DTSTAMP:20260425T035251Z
URL:https://business.manheimchamber.com/events/details/lunch-learn-transform-stress-1553
END:VEVENT

END:VCALENDAR
