BEGIN:VCALENDAR
VERSION:2.0
PRODID:-//ChamberMaster//Event Calendar 2.0//EN
METHOD:PUBLISH
X-PUBLISHED-TTL:P3D
REFRESH-INTERVAL:P3D
CALSCALE:GREGORIAN
BEGIN:VEVENT
DTSTART:20250311T154500Z
DTEND:20250311T170000Z
X-MICROSOFT-CDO-ALLDAYEVENT:FALSE
SUMMARY:Lunch & Learn 2025
DESCRIPTION:Join us for our next Lunch & Learn with Len Bodner!\n\n\n\nAlways start with the end in mind! Investing in your business is essential to growth. Part of a well-balanced plan is to build savings while building your business. We will explore options to secure your financial future with strategies for business owners. When we know better\, we do better!\n\n\n\nLen Bodnar\, RICP \, is a fiduciary investment advisor. His mission is to provide comprehensive financial planning that carefully considers and coordinates all aspects of the client's financial plan including retirement income. Additional information can be found at www.RetirewithLen.com\n\n\n\n\n\nThanks to our generous sponsors\, this educational program includes a light lunch and is FREE to our members! $20 for Non Members.
X-ALT-DESC;FMTTYPE=text/html:<div>Join us for our next Lunch &amp\; Learn with Len Bodner!<br />\n<br />\nAlways start with the end in mind! Investing in your business is essential to growth. Part of a well-balanced plan is to build savings while building your business. We will explore options to secure your financial future with strategies for business owners. When we know better\, we do better!<br />\n<br />\nLen Bodnar\, RICP&reg\;\, is a fiduciary investment advisor. His mission is to provide comprehensive financial planning that carefully considers and coordinates all aspects of the client&rsquo\;s financial plan including retirement income. Additional information can be found at&nbsp\;<a data-saferedirecturl="https://www.google.com/url?q=https://urldefense.proofpoint.com/v2/url?u%3Dhttp-3A__www.RetirewithLen.com%26d%3DDwMFaQ%26c%3DeuGZstcaTDllvimEN8b7jXrwqOf-v5A_CdpgnVfiiMM%26r%3DSsnXnpESHjDgeCWnZZ3QtC8e8FryOyA-qiWKHrkpoCg%26m%3Do58OitdDY_dDPwdYn0B0EqnFBHud6M1mNLfGCHvfHYhIP_tRwkXl338W4EHRsflS%26s%3DKhDtoL5HUq0zDi_QgNMO1HXLO9vMpUiYCG4THvIIvto%26e%3D&amp\;source=gmail&amp\;ust=1738166619830000&amp\;usg=AOvVaw1yDIzd67sz9PTmPsqeiphj" href="https://urldefense.proofpoint.com/v2/url?u=http-3A__www.RetirewithLen.com&amp\;d=DwMFaQ&amp\;c=euGZstcaTDllvimEN8b7jXrwqOf-v5A_CdpgnVfiiMM&amp\;r=SsnXnpESHjDgeCWnZZ3QtC8e8FryOyA-qiWKHrkpoCg&amp\;m=o58OitdDY_dDPwdYn0B0EqnFBHud6M1mNLfGCHvfHYhIP_tRwkXl338W4EHRsflS&amp\;s=KhDtoL5HUq0zDi_QgNMO1HXLO9vMpUiYCG4THvIIvto&amp\;e=" style="color:rgb(17\, 85\, 204)\;cursor:pointer\;" target="_blank">www.RetirewithLen.com</a><br />\n<br />\n<br />\nThanks to our generous sponsors\, this educational program includes a light lunch and is FREE to our members! $20 for Non Members.<br />\n<br />\n&nbsp\;</div>\n
LOCATION:SUPPLY 280 S Oak Street\, Manheim
UID:e.3375.1652
SEQUENCE:3
DTSTAMP:20260424T214403Z
URL:https://business.manheimchamber.com/events/details/lunch-learn-2025-1652
END:VEVENT

END:VCALENDAR
