BEGIN:VCALENDAR
VERSION:2.0
PRODID:-//ChamberMaster//Event Calendar 2.0//EN
METHOD:PUBLISH
X-PUBLISHED-TTL:P3D
REFRESH-INTERVAL:P3D
CALSCALE:GREGORIAN
BEGIN:VEVENT
DTSTART:20250114T164500Z
DTEND:20250114T180000Z
X-MICROSOFT-CDO-ALLDAYEVENT:FALSE
SUMMARY:Lunch & Learn: Productivity For The Busy Leader
DESCRIPTION:Are you a small business leader feeling overwhelmed by your daily responsibilities? Do you struggle to find time for what truly matters? Join Arthur C. Woods\, an experienced and dynamic speaker\, trainer and coach\, for an empowering hour-long seminar designed specifically for leaders like you. In "Productivity For The Busy Leader\," you will learn how to create your ideal week\, implement critical daily routines\, and establish clear goals for your most important tasks. This seminar is tailored to help you organize your life and provide the structure you need to get things done effectively.\n\n \n\nWhat You Will Gain:\n\n \n\n01. Strategic Planning: Discover how to design a week that maximizes your productivity and aligns with your goals.\n\n02. Daily Routines: Learn the essential habits that will keep you focused and energized throughout your busy days.\n\n03. Goal Setting: Master the art of prioritizing tasks that matter most\, ensuring you make meaningful progress in your business.\n\n \n\nDon't let the chaos of daily demands hold you back.  Join us for this transformative seminar and take the first step towards a more productive and fulfilling leadership journey. Reserve your spot today and empower yourself to lead with clarity and purpose!\n\n\nThanks to our generous sponsors\, this educational program includes a light lunch and is FREE to our members! $20 for Non Members.
X-ALT-DESC;FMTTYPE=text/html:<div>\n<div style="color: rgb(34\, 34\, 34)\; font-family: Arial\, Helvetica\, sans-serif\; font-size: small\; white-space-collapse: break-spaces\; background-color: rgb(255\, 255\, 255)\; margin-top: 0px\; margin-right: 0px\; margin-left: 0px\; padding: 0px\; border: 0px\; font-stretch: inherit\; line-height: 1.5\; vertical-align: baseline\; box-sizing: border-box\; overflow-wrap: break-word\;">Are you a small business leader feeling overwhelmed by your daily responsibilities? Do you struggle to find time for what truly matters? Join Arthur C. Woods\, an experienced and dynamic speaker\, trainer and coach\, for an empowering hour-long seminar designed specifically for leaders like you. In &quot\;Productivity For The Busy Leader\,&quot\; you will learn how to create your ideal week\, implement critical daily routines\, and establish clear goals for your most important tasks. This seminar is tailored to help you organize your life and provide the structure you need to get things done effectively.</div>\n\n<div style="color: rgb(34\, 34\, 34)\; font-family: Arial\, Helvetica\, sans-serif\; font-size: small\; white-space-collapse: break-spaces\; background-color: rgb(255\, 255\, 255)\; margin-top: 0px\; margin-right: 0px\; margin-left: 0px\; padding: 0px\; border: 0px\; font-stretch: inherit\; line-height: 1.5\; vertical-align: baseline\; box-sizing: border-box\; overflow-wrap: break-word\;">&nbsp\;</div>\n\n<div style="color: rgb(34\, 34\, 34)\; font-family: Arial\, Helvetica\, sans-serif\; font-size: small\; white-space-collapse: break-spaces\; background-color: rgb(255\, 255\, 255)\; margin-top: 0px\; margin-right: 0px\; margin-left: 0px\; padding: 0px\; border: 0px\; font-stretch: inherit\; line-height: 1.5\; vertical-align: baseline\; box-sizing: border-box\; overflow-wrap: break-word\;"><span style="margin: 0px\; padding: 0px\; border: 0px\; font-style: inherit\; font-variant-caps: inherit\; font-stretch: inherit\; line-height: 1.5\; vertical-align: baseline\; box-sizing: border-box\; overflow-wrap: break-word\;"><b>What You Will Gain:</b></span></div>\n\n<div style="color: rgb(34\, 34\, 34)\; font-family: Arial\, Helvetica\, sans-serif\; font-size: small\; white-space-collapse: break-spaces\; background-color: rgb(255\, 255\, 255)\; margin-top: 0px\; margin-right: 0px\; margin-left: 0px\; padding: 0px\; border: 0px\; font-stretch: inherit\; line-height: 1.5\; vertical-align: baseline\; box-sizing: border-box\; overflow-wrap: break-word\;">&nbsp\;</div>\n\n<div style="color: rgb(34\, 34\, 34)\; font-family: Arial\, Helvetica\, sans-serif\; font-size: small\; white-space-collapse: break-spaces\; background-color: rgb(255\, 255\, 255)\; margin-top: 0px\; margin-right: 0px\; margin-left: 0px\; padding: 0px\; border: 0px\; font-stretch: inherit\; line-height: 1.5\; vertical-align: baseline\; box-sizing: border-box\; overflow-wrap: break-word\;"><span style="font-style: inherit\; font-variant-caps: inherit\; margin: 0px\; padding: 0px\; border: 0px\; font-stretch: inherit\; line-height: 1.5\; vertical-align: baseline\; box-sizing: border-box\; overflow-wrap: break-word\;">01. <b>Strategic Planning:</b></span><span style="font-style: inherit\; font-variant-caps: inherit\;">&nbsp\;</span><span style="font-style: inherit\; font-variant-caps: inherit\;">Discover how to design a week that maximizes your productivity and aligns with your goals.</span></div>\n\n<div style="color: rgb(34\, 34\, 34)\; font-family: Arial\, Helvetica\, sans-serif\; font-size: small\; white-space-collapse: break-spaces\; background-color: rgb(255\, 255\, 255)\; margin-top: 0px\; margin-right: 0px\; margin-left: 0px\; padding: 0px\; border: 0px\; font-stretch: inherit\; line-height: 1.5\; vertical-align: baseline\; box-sizing: border-box\; overflow-wrap: break-word\;"><span style="font-style: inherit\; font-variant-caps: inherit\; margin: 0px\; padding: 0px\; border: 0px\; font-stretch: inherit\; line-height: 1.5\; vertical-align: baseline\; box-sizing: border-box\; overflow-wrap: break-word\;">02. <b>Daily Routines:</b></span><span style="font-style: inherit\; font-variant-caps: inherit\;">&nbsp\;</span><span style="font-style: inherit\; font-variant-caps: inherit\;">Learn the essential habits that will keep you focused and energized throughout your busy days.</span></div>\n\n<div style="color: rgb(34\, 34\, 34)\; font-family: Arial\, Helvetica\, sans-serif\; font-size: small\; white-space-collapse: break-spaces\; background-color: rgb(255\, 255\, 255)\; margin-top: 0px\; margin-right: 0px\; margin-left: 0px\; padding: 0px\; border: 0px\; font-stretch: inherit\; line-height: 1.5\; vertical-align: baseline\; box-sizing: border-box\; overflow-wrap: break-word\;"><span style="font-style: inherit\; font-variant-caps: inherit\; margin: 0px\; padding: 0px\; border: 0px\; font-stretch: inherit\; line-height: 1.5\; vertical-align: baseline\; box-sizing: border-box\; overflow-wrap: break-word\;">03. <b>Goal Setting:</b></span><span style="font-style: inherit\; font-variant-caps: inherit\;">&nbsp\;</span><span style="font-style: inherit\; font-variant-caps: inherit\;">Master the art of prioritizing tasks that matter most\, ensuring you make meaningful progress in your business.</span></div>\n\n<div style="color: rgb(34\, 34\, 34)\; font-family: Arial\, Helvetica\, sans-serif\; font-size: small\; white-space-collapse: break-spaces\; background-color: rgb(255\, 255\, 255)\; margin-top: 0px\; margin-right: 0px\; margin-left: 0px\; padding: 0px\; border: 0px\; font-stretch: inherit\; line-height: 1.5\; vertical-align: baseline\; box-sizing: border-box\; overflow-wrap: break-word\;">&nbsp\;</div>\n\n<div style="color: rgb(34\, 34\, 34)\; font-family: Arial\, Helvetica\, sans-serif\; font-size: small\; white-space-collapse: break-spaces\; background-color: rgb(255\, 255\, 255)\; margin: 0px\; padding: 0px\; border: 0px\; font-stretch: inherit\; line-height: 1.5\; vertical-align: baseline\; box-sizing: border-box\; overflow-wrap: break-word\;">Don&#39\;t let the chaos of daily demands hold you back.&nbsp\; Join us for this transformative seminar and take the first step towards a more productive and fulfilling leadership journey.&nbsp\;Reserve your spot today and empower yourself to lead with clarity and purpose!</div>\n<br />\nThanks to our generous sponsors\, this educational program includes a light lunch and is FREE to our members! $20 for Non Members.<br />\n&nbsp\;</div>\n
LOCATION:SUPPLY 280 S Oak Street\, Manheim
UID:e.3375.1651
SEQUENCE:3
DTSTAMP:20260425T005121Z
URL:https://business.manheimchamber.com/events/details/lunch-learn-2025-1651
END:VEVENT

END:VCALENDAR
