BEGIN:VCALENDAR
VERSION:2.0
PRODID:-//ChamberMaster//Event Calendar 2.0//EN
METHOD:PUBLISH
X-PUBLISHED-TTL:P3D
REFRESH-INTERVAL:P3D
CALSCALE:GREGORIAN
BEGIN:VEVENT
DTSTART:20240717T140000Z
DTEND:20240718T000000Z
X-MICROSOFT-CDO-ALLDAYEVENT:FALSE
SUMMARY:Give Back Wednesday at the Shack for Manheim Historical Society
DESCRIPTION:Join the Manheim Historical Society for great food and fun on the mini golf course on Wednesday\, July 18 at THE SHACK in Manheim. Some of the proceeds from sales will benefit the Society.
X-ALT-DESC;FMTTYPE=text/html:Join the Manheim Historical Society for great food and fun on the mini golf course on Wednesday\, July 18 at THE SHACK in Manheim. Some of the proceeds from sales will benefit the Society.
LOCATION:
UID:e.3375.1644
SEQUENCE:3
DTSTAMP:20260425T115345Z
URL:https://business.manheimchamber.com/events/details/give-back-wednesday-at-the-shack-for-manheim-historical-society-1644
END:VEVENT

END:VCALENDAR
