BEGIN:VCALENDAR
VERSION:2.0
PRODID:-//ChamberMaster//Event Calendar 2.0//EN
METHOD:PUBLISH
X-PUBLISHED-TTL:P3D
REFRESH-INTERVAL:P3D
CALSCALE:GREGORIAN
BEGIN:VEVENT
DTSTART:20250107T233000Z
DTEND:20250108T003000Z
X-MICROSOFT-CDO-ALLDAYEVENT:FALSE
SUMMARY:Dream Builders LIVE 2025
DESCRIPTION:Ready to make 2025 your best year ever? Dive into a transformative experience with Arthur C. Woods and unlock the power of goal setting and habit formation. Discover the strategies to overcome obstacles and create the life you desire. Don't miss this opportunity to design your breakthrough year!\n\nRegister at www.arthurcwoods.com
X-ALT-DESC;FMTTYPE=text/html:<p><span style="background-color:rgb(242\, 243\, 245)\; color:rgb(54\, 57\, 77)\; font-family:source sans pro\; font-size:18px">Ready to make 2025 your best year ever? Dive into a transformative experience with Arthur C. Woods and unlock the power of goal setting and habit formation. Discover the strategies to overcome obstacles and create the life you desire. Don&#39\;t miss this opportunity to design your breakthrough year!</span></p>\n\n<p><span style="font-size:20px"><strong>Register at www.arthurcwoods.com</strong></span></p>\n
LOCATION:Free VIRTUAL Event
UID:e.3375.1733
SEQUENCE:3
DTSTAMP:20260425T005310Z
URL:https://business.manheimchamber.com/events/details/dream-builders-live-2025-1733
END:VEVENT

END:VCALENDAR
