BEGIN:VCALENDAR
VERSION:2.0
PRODID:-//ChamberMaster//Event Calendar 2.0//EN
METHOD:PUBLISH
X-PUBLISHED-TTL:P3D
REFRESH-INTERVAL:P3D
CALSCALE:GREGORIAN
BEGIN:VEVENT
DTSTART:20240418T090000Z
DTEND:20240422T000000Z
X-MICROSOFT-CDO-ALLDAYEVENT:FALSE
SUMMARY:Bus Tour – Virginia Beach Your Way/3-nights hotel at the Oceanfront Inn
DESCRIPTION:Bus Tour   Virginia Beach Your Way/3-nights hotel at the Oceanfront Inn\n\nApril 18-21\, 2024\n\n\n\nBus Departs Willow Street\, Lancaster & York  PA\n\nApproximate departure times\, Willow Street 6:30\, Lancaster 7:30\, and York 8:30 AM\n\n\n\nThis Virginia Beach on your-own tour is being added due to availability on the Parade of Nations & International Tattoo tour.\n\n\n\nDay #1\n\n \n\nYour day starts with a SWEET TREAT as we depart for Virginia Beach. Having a lunch stop is not included along the way. Our destination is the Oceanfront Inn https://oceanfrontinn.com. After checking in you will have time to enjoy your oceanfront hotel room and the boardwalk for the next three days. Each room has a private balcony with chairs for you to relax and enjoy quiet time on your Spring getaway.\n\nWhen they say they are your hometown family hotel\, they mean it. The Oceanfront Inn is not only an independent hotel\, but they are truly a family hotel. Andy Vakos and his family have been welcoming guests to The Oceanfront Inn for years. Whatever you need\, whenever you need it\, they will do their best to make sure you and your family are comfortable. Every room is a room with an ocean view! While you are there\, consider it your oceanfront home\n\nFeatured Amenities:\n\n	Centrally Located to Great Restaurants and Shopping\n	Oceanfront Rooms with a Private Balcony facing the Atlantic Ocean\n	Onsite casual Oceanfront Restaurant with Boardwalk\n	Relaxing Indoor Pool\n	Refrigerator\n	Coffee Maker\n	Iron and Full-Size Ironing Board\n	Hairdryer\n	Flat-Screen TV\n	WiFi\n	Breakfast is included\, all other meals are on your own with many restaurants to choose from within walking distance of the hotel. The new OCEAN 31 is full of shops and restaurants and located 2 blocks from the hotel.\n	Centrally Located to Great Restaurants and Shopping\n	Oceanfront Rooms with a Private Balcony facing the Atlantic Ocean\n	Onsite casual Oceanfront Restaurant with Boardwalk\n	Relaxing Indoor Pool\n\nAccommodations: Oceanfront Inn\, 2901 Atlantic Avenue\, Virginia Beach\, VA 23451. Phone 757-422-0445.\n\nMeals: Sweet treat\n\n \n\nDay #2 & #3 on your own.\n\n \n\nA made-to-order BREAKFAST daily at the hotel restaurant.\n\nMeals: B\n\n \n\n \n\nDay #4\n\n \n\nBREAKFAST this morning\, and some free time to enjoy your beachfront accommodations and boardwalk\, before departing to the MILITARY AVIATION MUSEUM\, located in Virginia Beach. The Military Aviation Museum is home to one of the world's largest collections of flying vintage military aircraft. This facility includes over 50 aircraft from the World War I and World War II era. LUNCH is included at the Aviation Museum before departing for home.\n\n \n\nMeals: B\, L\n\n \n\nTour includes: Round Trip Deluxe Motorcoach\, 3-nights Lodging at Oceanfront Inn\, Virginia Beach\, 3 Made to Order Breakfasts\, 1 Lunch\, Admission to the Military Aviation Museum\, BLT Tote Bag\, Luggage Handling\, Water and Snacks on the Motorcoach\, Experienced and Knowledgeable Tour Representative\, and all Taxes.
X-ALT-DESC;FMTTYPE=text/html:<strong><span style="font-family:arial\,sans-serif">Bus Tour &ndash\; Virginia Beach Your Way/3-nights hotel at the Oceanfront Inn</span></strong><br />\n<strong><span style="font-family:arial\,sans-serif">April 18-21\, 2024</span></strong><br />\n<br />\n<strong><span style="font-family:arial\,sans-serif">Bus Departs Willow Street\, Lancaster &amp\; York &nbsp\;PA</span></strong><br />\n<strong><span style="font-family:arial\,sans-serif"><span style="font-size:9.0pt">Approximate departure times\, Willow Street 6:30\, Lancaster 7:30\, and York 8:30 AM</span></span></strong><br />\n<br />\n<strong><em><span style="font-family:arial\,sans-serif"><span style="font-size:9.0pt">This Virginia Beach on your-own tour is being added due to availability on the Parade of Nations &amp\; International Tattoo tour.</span></span></em></strong><br />\n<br />\n<u><span style="color:black"><span style="font-family:arial\,sans-serif"><span style="font-size:9.0pt">Day #1</span></span></span></u><br />\n&nbsp\;<br />\n<span style="font-family:arial\,sans-serif"><span style="font-size:9.0pt">Your day starts with a </span></span><strong><span style="color:red"><span style="font-family:arial\,sans-serif"><span style="font-size:9.0pt">SWEET TREAT</span></span></span></strong> <span style="font-family:arial\,sans-serif"><span style="font-size:9.0pt">as we depart for Virginia Beach. Having a lunch stop is not included along the way. Our destination is the </span></span><strong><span style="font-family:arial\,sans-serif"><span style="font-size:9.0pt">Oceanfront Inn</span></span></strong> <a href="https://oceanfrontinn.com/"><span style="font-family:arial\,sans-serif"><span style="font-size:9.0pt">https://oceanfrontinn.com</span></span></a><span style="font-family:arial\,sans-serif"><span style="font-size:9.0pt">. </span></span><span style="color:black"><span style="font-family:arial\,sans-serif"><span style="font-size:9.0pt">After checking in you will have time to enjoy your </span></span></span><span style="color:windowtext"><span style="font-family:arial\,sans-serif"><span style="font-size:9.0pt">oceanfront hotel room and </span></span></span><span style="color:black"><span style="font-family:arial\,sans-serif"><span style="font-size:9.0pt">the boardwalk for the next three days. Each room has a private balcony with chairs for you to relax and enjoy quiet time on your Spring getaway.</span></span></span><br />\n<span style="color:#212529"><span style="font-family:arial\,sans-serif"><span style="font-size:9.0pt">When&nbsp\;they say&nbsp\;they are&nbsp\;your hometown family hotel\,&nbsp\;they mean it. The Oceanfront Inn is&nbsp\;not only an independent hotel\, but they are truly a family hotel. Andy Vakos and his family have been welcoming guests to The Oceanfront Inn for years. Whatever you need\, whenever you need it\, they will do their best to make sure you and your family are comfortable. Every room is a room with an ocean view! While you are there\, consider it your oceanfront home</span></span></span><br />\n<span style="color:#212529"><span style="font-family:arial\,sans-serif"><span style="font-size:9.0pt">Featured Amenities:</span></span></span>\n<ul>\n	<li><span style="font-family:arial\,sans-serif"><span style="font-size:9.0pt">Centrally Located to Great Restaurants and Shopping</span></span></li>\n	<li><span style="font-family:arial\,sans-serif"><span style="font-size:9.0pt">Oceanfront Rooms with a Private Balcony facing the Atlantic Ocean</span></span></li>\n	<li><span style="font-family:arial\,sans-serif"><span style="font-size:9.0pt">Onsite casual Oceanfront Restaurant with Boardwalk</span></span></li>\n	<li><span style="font-family:arial\,sans-serif"><span style="font-size:9.0pt">Relaxing Indoor Pool</span></span></li>\n	<li><span style="font-family:arial\,sans-serif"><span style="font-size:9.0pt">Refrigerator</span></span></li>\n	<li><span style="font-family:arial\,sans-serif"><span style="font-size:9.0pt">Coffee Maker</span></span></li>\n	<li><span style="font-family:arial\,sans-serif"><span style="font-size:9.0pt">Iron and Full-Size Ironing Board</span></span></li>\n	<li><span style="font-family:arial\,sans-serif"><span style="font-size:9.0pt">Hairdryer</span></span></li>\n	<li><span style="font-family:arial\,sans-serif"><span style="font-size:9.0pt">Flat-Screen TV</span></span></li>\n	<li><span style="font-family:arial\,sans-serif"><span style="font-size:9.0pt">WiFi</span></span></li>\n	<li><span style="color:#212529"><span style="font-family:arial\,sans-serif"><span style="font-size:9.0pt">Breakfast is included\, all other meals are on your own with many restaurants to choose from within walking distance of the hotel. The new&nbsp\;<strong><u>OCEAN 31&nbsp\;</u></strong>is full of shops and restaurants and located 2 blocks from the hotel.</span></span></span></li>\n	<li><span style="font-family:arial\,sans-serif"><span style="font-size:9.0pt">Centrally Located to Great Restaurants and Shopping</span></span></li>\n	<li><strong><span style="color:black"><span style="font-family:arial\,sans-serif"><span style="font-size:9.0pt">Oceanfront Rooms with a Private Balcony facing the Atlantic Ocean</span></span></span></strong></li>\n	<li><span style="font-family:arial\,sans-serif"><span style="font-size:9.0pt">Onsite casual Oceanfront Restaurant with Boardwalk</span></span></li>\n	<li><span style="font-family:arial\,sans-serif"><span style="font-size:9.0pt">Relaxing Indoor Pool</span></span></li>\n</ul>\n<strong><span style="color:black"><span style="font-family:arial\,sans-serif"><span style="font-size:9.0pt">Accommodations: Oceanfront Inn\, 2901 Atlantic Avenue\, Virginia Beach\, VA 23451. Phone 757-422-0445.</span></span></span></strong><br />\n<strong><span style="color:black"><span style="font-family:arial\,sans-serif"><span style="font-size:9.0pt">Meals: Sweet treat</span></span></span></strong><br />\n&nbsp\;<br />\n<u><span style="color:black"><span style="font-family:arial\,sans-serif"><span style="font-size:9.0pt">Day #2 &amp\; #3 on your own.</span></span></span></u><br />\n&nbsp\;<br />\n<span style="color:black"><span style="font-family:arial\,sans-serif"><span style="font-size:9.0pt">A made-to-order </span></span></span><strong><span style="color:red"><span style="font-family:arial\,sans-serif"><span style="font-size:9.0pt">BREAKFAST </span></span></span></strong><span style="color:black"><span style="font-family:arial\,sans-serif"><span style="font-size:9.0pt">daily at the hotel restaurant.</span></span></span><br />\n<strong><span style="color:windowtext"><span style="font-family:arial\,sans-serif"><span style="font-size:9.0pt">Meals: B</span></span></span></strong><br />\n&nbsp\;<br />\n&nbsp\;<br />\n<u><span style="color:black"><span style="font-family:arial\,sans-serif"><span style="font-size:9.0pt">Day #4</span></span></span></u><br />\n&nbsp\;<br />\n<strong><span style="color:red"><span style="font-family:arial\,sans-serif"><span style="font-size:9.0pt">BREAKFAST</span></span></span></strong> <span style="color:black"><span style="font-family:arial\,sans-serif"><span style="font-size:9.0pt">this morning\, and some free time to enjoy your beachfront accommodations and boardwalk\, before departing to the <strong>MILITARY AVIATION MUSEUM</strong>\, located in Virginia Beach. The Military Aviation Museum is home to one of the world&rsquo\;s largest collections of flying vintage military aircraft. This facility includes over 50 aircraft from the World War I and World War II era. </span></span></span><strong><span style="color:red"><span style="font-family:arial\,sans-serif"><span style="font-size:9.0pt">LUNCH</span></span></span></strong><span style="color:black"><span style="font-family:arial\,sans-serif"><span style="font-size:9.0pt"> is included at the Aviation Museum before departing for home.</span></span></span><br />\n&nbsp\;<br />\n<strong><span style="color:windowtext"><span style="font-family:arial\,sans-serif"><span style="font-size:9.0pt">Meals: B\, L</span></span></span></strong><br />\n&nbsp\;<br />\n<span style="font-size:9.0pt">Tour includes: Round Trip Deluxe Motorcoach\, 3-nights Lodging at Oceanfront Inn\, Virginia Beach\, 3 Made to Order Breakfasts\, 1 Lunch\, Admission to the Military Aviation Museum\, BLT Tote Bag\, Luggage Handling\, Water and Snacks on the Motorcoach\, Experienced and Knowledgeable Tour Representative\, and all Taxes. </span><br />\n&nbsp\;<br />\n&nbsp\;
LOCATION:Virginia Beach\, Virginia
UID:e.3375.1630
SEQUENCE:3
DTSTAMP:20260425T152356Z
URL:https://business.manheimchamber.com/events/details/bus-tour-virginia-beach-your-way-3-nights-hotel-at-the-oceanfront-inn-1630
END:VEVENT

END:VCALENDAR
