BEGIN:VCALENDAR
VERSION:2.0
PRODID:-//ChamberMaster//Event Calendar 2.0//EN
METHOD:PUBLISH
X-PUBLISHED-TTL:P3D
REFRESH-INTERVAL:P3D
CALSCALE:GREGORIAN
BEGIN:VEVENT
DTSTART:20240302T120000Z
DTEND:20240302T230000Z
X-MICROSOFT-CDO-ALLDAYEVENT:FALSE
SUMMARY:Bus Tour – Philadelphia Flower Show\, March 2\, 2024
DESCRIPTION:Bus Tour   Philadelphia Flower Show\, March 2\, 2024 \n\nBus Departs Willow Street\, Lancaster (Centerville Road)\, Ephrata PA\n\nApproximate departure time   Willow Street 6:40\, Lancaster 7:15\, Ephrata 7:45. Depart Philadephia 4:00 PM\n\n \n\nIs attending the Philadelphia Flower Show on your Bucket List?\n\nJoin BLT on the opening day of the 2024 Philadelphia Flower Show\, with fewer buses and fewer people. Enjoy your day at the Philadelphia Flower Show and when you finish Reading Terminal Market is a short walk.\n\n \n\nAllow Bucket List Tours to take you on a memorable trip to Philadelphia\, where you will get your first taste of Spring 2024. Enjoy the Philadelphia Flower Show where you will be "United by Flowers"\, with so much happiness and comfort! Spend the day immersed in the dazzling floral creativity of this wonderful experience! The PHS Philadelphia Flower Show is the nation's largest\, and the world's longest-running horticultural event and features stunning displays by some of the world's premier floral and landscape designers. Started in 1829 by the Pennsylvania Horticultural Society\, the show introduces diverse and sustainable plant varieties and garden and design concepts. In addition to acres of garden displays\, the Flower Show hosts world-renowned competitions in horticulture and artistic floral arranging\, gardening presentations and demonstrations\, and special events. https://phsonline.org/the-flower-show\n\n\n\nWelcome to the Reading Terminal Market. One of America's largest and oldest public markets\, housed since 1893 in a National Historic Landmark building\, the Market offers an incredible selection of locally grown & exotic produce\, locally sourced meats\, and poultry\, plus the finest seafood\, cheeses\, baked goods\, and confections. You'll find everything you need to create a memorable meal\, from cookbooks to table linens\, to kitchenware\, to fresh-cut flowers\, and more. Plus the widest variety of restaurants under one roof. Find it all here at Philadelphia's historic public market! Bring a cooler for your purchases. The motorcoach will pick us up near the market. https://readingterminalmarket.org\n\n \n\nTour includes Round Trip Deluxe Motorcoach\, admission to the Philadelphia Flower Show\, free time at Reading Terminal Market\, water & snacks on the motorcoach\, Experienced and Knowledgeable Tour Representative\, and all Taxes.
X-ALT-DESC;FMTTYPE=text/html:<strong><span style="font-size:12.0pt">Bus Tour &ndash\; Philadelphia Flower Show\, March 2\, 2024 </span></strong><br />\n<strong><span style="font-size:12.0pt">Bus Departs Willow Street\, Lancaster (Centerville Road)\, Ephrata PA</span></strong><br />\n<span style="font-size:12.0pt">Approximate departure time &ndash\; Willow Street 6:40\, Lancaster 7:15\, Ephrata 7:45. Depart Philadephia 4:00 PM</span><br />\n&nbsp\;<br />\n<strong><span style="font-size:11.0pt">Is attending the Philadelphia Flower Show on your Bucket List?</span></strong><br />\n<strong><span style="color:red"><span style="font-size:11.0pt">Join BLT on the opening day of the 2024 Philadelphia Flower Show\, with fewer buses and fewer people. </span></span></strong><span style="font-size:10.0pt">Enjoy your day at the Philadelphia Flower Show and when you finish Reading Terminal Market is a short walk.</span><br />\n&nbsp\;<br />\n<span style="font-family:arial\,sans-serif"><span style="font-size:10.0pt">Allow Bucket List Tours to take you on a memorable trip to Philadelphia\, where you will get your first taste of Spring 2024. Enjoy the Philadelphia Flower Show where you will be &quot\;United by Flowers&quot\;\, with so much happiness and comfort! Spend the day immersed in the dazzling floral creativity of this wonderful experience! The PHS Philadelphia Flower Show is the nation&rsquo\;s largest\, and the world&rsquo\;s longest-running horticultural event and features stunning displays by some of the world&rsquo\;s premier floral and landscape designers. Started in 1829 by the Pennsylvania Horticultural Society\, the show introduces diverse and sustainable plant varieties and garden and design concepts. In addition to acres of garden displays\, the Flower Show hosts world-renowned competitions in horticulture and artistic floral arranging\, gardening presentations and demonstrations\, and special events. <a href="https://phsonline.org/the-flower-show">https://phsonline.org/the-flower-show</a></span></span><br />\n<br />\n<span style="color:black"><span style="font-family:arial\,sans-serif"><span style="font-size:10.0pt">Welcome to the Reading Terminal Market. One of America&rsquo\;s largest and oldest public markets\, housed since 1893 in a National Historic Landmark building\, the Market offers an incredible selection of locally grown &amp\; exotic produce\, locally sourced meats\, and poultry\, plus the finest seafood\, cheeses\, baked goods\, and confections. You&rsquo\;ll find everything you need to create a memorable meal\, from cookbooks to table linens\, to kitchenware\, to fresh-cut flowers\, and more. Plus the widest variety of restaurants under one roof. Find it all here at Philadelphia&rsquo\;s historic public market! Bring a cooler for your purchases. The motorcoach will pick us up near the market. </span></span></span><a href="https://readingterminalmarket.org/"><span style="font-family:arial\,sans-serif"><span style="font-size:10.0pt">https://readingterminalmarket.org</span></span></a><br />\n&nbsp\;<br />\n<span style="color:windowtext"><span style="font-size:10.0pt">Tour includes Round Trip Deluxe Motorcoach\, admission to the Philadelphia Flower Show\, free time at Reading Terminal Market\, water &amp\; snacks on the motorcoach\, Experienced and Knowledgeable Tour Representative\, and all Taxes. </span></span>
LOCATION:Pennsylvania Convention Center\, Philadelphia
UID:e.3375.1607
SEQUENCE:3
DTSTAMP:20260425T164247Z
URL:https://business.manheimchamber.com/events/details/bus-tour-philadelphia-flower-show-march-2-2024-1607
END:VEVENT

END:VCALENDAR
