BEGIN:VCALENDAR
VERSION:2.0
PRODID:-//ChamberMaster//Event Calendar 2.0//EN
METHOD:PUBLISH
X-PUBLISHED-TTL:P3D
REFRESH-INTERVAL:P3D
CALSCALE:GREGORIAN
BEGIN:VEVENT
DTSTART:20240504T093000Z
DTEND:20240505T020000Z
X-MICROSOFT-CDO-ALLDAYEVENT:FALSE
SUMMARY:Bus Tour New York City "Your Day Your Way"
DESCRIPTION:Bus Tour - Spring in New York City "Your Day\, Your Way"\n\nMay 4\, 2024\n\nBus departs Willow Street\, Lancaster & Ephrata\, PA\n\n\n\nThere's so much to see and do in New York City! Join our "Do As You Please" bus tour package whether you're interested In seeing the latest Broadway show\, experiencing New York City's best museums and attractions\, choosing from many tour ideas\, Central Park\, or going shopping and dining for your trip to New York City. New York offers a wide variety of world-class sightseeing\, dining\, and shopping opportunities. This is your day in the Big Apple.\n\n \n\nTour Includes: Roundtrip Deluxe Motorcoach transportation\, New York City maps\, water & snacks on the motorcoach\, Knowledgeable and Experienced Tour Representative\, and all taxes.
X-ALT-DESC;FMTTYPE=text/html:<span style="font-family:arial\,sans-serif"><span style="font-size:10.0pt">Bus Tour - Spring in New York City &quot\;Your Day\, Your Way&quot\;<br />\nMay 4\, 2024<br />\nBus departs Willow Street\, Lancaster &amp\; Ephrata\, PA<br />\n<br />\nThere&rsquo\;s so much to see and do in New York City! Join our &ldquo\;Do As You Please&rdquo\; bus tour package whether you&rsquo\;re interested In seeing the latest Broadway show\, experiencing New York City&rsquo\;s best museums and attractions\, choosing from many tour ideas\, Central Park\, or going shopping and dining for your trip to New York City. New York offers a wide variety of world-class sightseeing\, dining\, and shopping opportunities. This is your day in the Big Apple.</span></span><br />\n&nbsp\;<br />\n<span style="color:black"><span style="font-family:arial\,sans-serif"><span style="font-size:10.0pt">Tour Includes: Roundtrip Deluxe Motorcoach transportation\, New York City maps\, water &amp\; snacks on the motorcoach\, Knowledgeable and Experienced Tour Representative\, and all taxes. </span></span></span><br />\n&nbsp\;<br />\n&nbsp\;
LOCATION:New York City
UID:e.3375.1617
SEQUENCE:3
DTSTAMP:20260425T133033Z
URL:https://business.manheimchamber.com/events/details/bus-tour-new-york-city-your-day-your-way-1617
END:VEVENT

END:VCALENDAR
