BEGIN:VCALENDAR
VERSION:2.0
PRODID:-//ChamberMaster//Event Calendar 2.0//EN
METHOD:PUBLISH
X-PUBLISHED-TTL:P3D
REFRESH-INTERVAL:P3D
CALSCALE:GREGORIAN
BEGIN:VEVENT
DTSTART:20240303T140000Z
DTEND:20240304T000000Z
X-MICROSOFT-CDO-ALLDAYEVENT:FALSE
SUMMARY:Bus Tour – March 3\, 2024 Wind Creek Casino\, Bethlehem\, PA
DESCRIPTION:Bus Tour    March 3\, 2024\n\nWind Creek Casino\, Bethlehem\, PA\n\n\n\nDepart Willow Street 8:25 AM\, Lancaster 9:05 AM\, and Ephrata 9:40\, AM. All times are approximate. \n\n\n\nWind Creek Bethlehem is the perfect place to find your #WinningMoment! Our casino offers over 150 table games\, state-of-the-art slot machines\, live dealer stadium gaming\, and more. Additionally\, Find Your Winning Moment by signing up for our Rewards program and getting entries into our promotions! https://windcreek.com/bethlehem/casino\n\n \n\nSlots\n\nWith over 2\,000 state-of-the-art slot machines\, including jackpot progressives\, multi-line\, multi-coin\, and interactive bonus screen games\, there are virtually infinite ways to find your next #WinningMoment.\n\nTable Games\n\nWind Creek Bethlehem is home to over 150 table games find all your favorites\, including Blackjack\, Caribbean Stud Poker\, Craps\, Criss Cross Poker\, Free Bet Blackjack\, Let It Ride Stud Poker\, Mini/Midi Baccarat\, Pai Gow Tiles\, Roulette\, Texas Hold 'em Bonus\, and Three Card Progressive Poker.\n\nLive Dealer Stadium Gaming\n\nTwo great stadiums four great games! $5 Minimum. All Day. Every Day.\n\nA live dealer delivers the excitement while you play your favorite game at your own personal betting terminal. One touchscreen connects you to multiple tables at once. Make wagers\, place side bets\, and experience super-charged exhilaration at your fingertips with a live dealer. The best part? It all begins with a $5 minimum bet!\n\nFind your favorite games including Blackjack\, Roulette\, War\, Baccarat.\n\nSportsbook Gaming\n\nThe newest way to find your Winning Moment is by sports betting at Wind Creek Bethlehem's Sportsbook\, Powered by Betfred Sports   NOW on the property and online! \n\nWind Creek Bethlehem's Sportsbook is packed with the latest amenities and premium comforts. With 8 state-of-the-art self-service kiosks and multiple windows\, you can place your bet with ease. Our Sportsbook is equipped with various seating options\, including traditional table seating and lounge chairs that are conveniently placed in front of our customizable 21-panel TV wall. You can wager on all of your favorite sports\, including Football\, Baseball\, Basketball\, Hockey\, Soccer\, Golf\, Boxing\, MMA\, College Football\, College Basketball\, and much more. Betting options include straight bets\, parlays\, round robins\, future bets\, teasers\, and prop bets.\n\nAdditional things to fill your afternoon. In the same building as the casino are the Outlets at Wind Creek. Some retail therapy after your big win at the casino is always relaxing https://www.outletsatwindcreekbethlehem.com.\n\nThe Hoover-Mason Tresle is the walk-way to the Steel Stacks Visitor Center with the backdrop being the remains of Bethlehem Steel a 10-minute walk to the closest stairs\, The HMT was once used as a narrow-gauge railroad to carry the coke\, limestone and iron ore needed to make the iron from the ore yards to the blast furnaces. Now a public walkway designed to be part museum\, part community recreation resource\, and part attraction\, the trestle stands 46 feet tall and 2\,000 feet long. HMT is located along the blast furnaces with one entrance at the Visitor Center and another at either end of the Gas Blowing Engine House. The indoor museum at the Visitor Center gives the history of Bethlehem Steel https://www.artsquest.org/hoover-mason-trestle-2.\n\n \n\nTour includes: Round Trip Deluxe Motorcoach\, $25.00 Slot FREE Play per person\, Free time at Wind Creek Casino\, Free time at the HMT\, Free time at Wind Creek Outlets\, Experienced and Knowledgeable Tour Representative\, Water and snacks on the Motorcoach\, and all Taxes. The day is yours you may stay all day at the casino or use one of the additional options to fill your day.\n\nCertified\n\n \n\nCost Per Person: $99:00\n\nYour reservation is guaranteed when the deposit is made. Accepting   Checks\, Credit Card\, Money Order\, Venmo\, PayPal\, or ACH Transfer.
X-ALT-DESC;FMTTYPE=text/html:<strong><span style="font-family:arial\,sans-serif"><span style="font-size:11.0pt">Bus Tour &ndash\; &nbsp\;March 3\, 2024</span></span></strong><br />\n<strong><span style="font-family:arial\,sans-serif">Wind Creek Casino\, Bethlehem\, PA</span></strong><br />\n<br />\n<strong><span style="font-family:arial\,sans-serif"><span style="font-size:9.0pt">Depart Willow Street </span></span></strong><strong><span style="color:windowtext"><span style="font-family:arial\,sans-serif"><span style="font-size:9.0pt">8:25 </span></span></span></strong><strong><span style="font-family:arial\,sans-serif"><span style="font-size:9.0pt">AM\, Lancaster 9:05 AM\, and </span></span></strong><strong><span style="color:windowtext"><span style="font-family:arial\,sans-serif"><span style="font-size:9.0pt">Ephrata </span></span></span></strong><strong><span style="font-family:arial\,sans-serif"><span style="font-size:9.0pt">9:40\, AM. All times are approximate.</span></span></strong>&nbsp\;<br />\n<br />\n<span style="color:red"><span style="font-family:arial\,sans-serif"><span style="font-size:10.0pt">Wind Creek Bethlehem is the perfect place to find your #WinningMoment! Our casino offers over 150 table games\, state-of-the-art slot machines\, live dealer stadium gaming\, and more. Additionally\, Find Your Winning Moment by signing up for our Rewards program and getting entries into our promotions! </span></span></span><a href="https://windcreek.com/bethlehem/casino"><span style="font-family:arial\,sans-serif"><span style="font-size:10.0pt">https://windcreek.com/bethlehem/casino</span></span></a><br />\n&nbsp\;<br />\n<strong><u><span style="color:#C00000"><span style="font-family:arial\,sans-serif"><span style="font-size:10.0pt">Slots</span></span></span></u></strong><br />\n<span style="color:black"><span style="font-family:arial\,sans-serif"><span style="font-size:10.0pt">With over 2\,000 state-of-the-art slot machines\, including jackpot progressives\, multi-line\, multi-coin\, and interactive bonus screen games\, there are virtually infinite ways to find your next #WinningMoment.</span></span></span><br />\n<strong><u><span style="color:#C00000"><span style="font-family:arial\,sans-serif"><span style="font-size:10.0pt">Table Games</span></span></span></u></strong><br />\n<span style="color:black"><span style="font-family:arial\,sans-serif"><span style="font-size:10.0pt">Wind Creek Bethlehem is home to over 150 table games&mdash\;find all your favorites\, including Blackjack\, Caribbean Stud Poker\, Craps\, Criss Cross Poker\, Free Bet Blackjack\, Let It Ride Stud Poker\, Mini/Midi Baccarat\, Pai Gow Tiles\, Roulette\, Texas Hold &#39\;em Bonus\, and Three Card Progressive Poker.</span></span></span><br />\n<strong><u><span style="color:#C00000"><span style="font-family:arial\,sans-serif"><span style="font-size:10.0pt">Live Dealer Stadium Gaming</span></span></span></u></strong><br />\n<span style="color:black"><span style="font-family:arial\,sans-serif"><span style="font-size:10.0pt">Two great stadiums&mdash\;four great games! $5 Minimum. All Day. Every Day.</span></span></span><br />\n<span style="color:black"><span style="font-family:arial\,sans-serif"><span style="font-size:10.0pt">A live dealer delivers the excitement while you play your favorite game at your own personal betting terminal. One touchscreen connects you to multiple tables at once. Make wagers\, place side bets\, and experience super-charged exhilaration at your fingertips with a live dealer. The best part? It all begins with a $5 minimum bet!</span></span></span><br />\n<span style="color:black"><span style="font-family:arial\,sans-serif"><span style="font-size:10.0pt">Find your favorite games including Blackjack\, Roulette\, War\, Baccarat.</span></span></span><br />\n<strong><u><span style="color:#C00000"><span style="font-family:arial\,sans-serif"><span style="font-size:10.0pt">Sportsbook Gaming</span></span></span></u></strong><br />\n<span style="color:black"><span style="font-family:arial\,sans-serif"><span style="font-size:10.0pt">The newest way to find your Winning Moment is by sports betting at Wind Creek Bethlehem&rsquo\;s Sportsbook\, Powered by Betfred Sports &mdash\; NOW on the property and online! </span></span></span><br />\n<span style="color:black"><span style="font-family:arial\,sans-serif"><span style="font-size:10.0pt">Wind Creek Bethlehem&rsquo\;s Sportsbook is packed with the latest amenities and premium comforts. With 8 state-of-the-art self-service kiosks and multiple windows\, you can place your bet with ease. Our Sportsbook is equipped with various seating options\, including traditional table seating and lounge chairs that are conveniently placed in front of our customizable 21-panel TV wall. You can wager on all of your favorite sports\, including Football\, Baseball\, Basketball\, Hockey\, Soccer\, Golf\, Boxing\, MMA\, College Football\, College Basketball\, and much more. Betting options include straight bets\, parlays\, round robins\, future bets\, teasers\, and prop bets.</span></span></span><br />\n<span style="color:red"><span style="font-family:arial\,sans-serif"><span style="font-size:10.0pt">Additional things to fill your afternoon</span></span></span><span style="color:black"><span style="font-family:arial\,sans-serif"><span style="font-size:10.0pt">. In the same building as the casino are the Outlets at Wind Creek. Some retail therapy after your big win at the casino is always relaxing </span></span></span><a href="https://www.outletsatwindcreekbethlehem.com/"><span style="font-family:arial\,sans-serif"><span style="font-size:10.0pt">https://www.outletsatwindcreekbethlehem.com</span></span></a><span style="color:black"><span style="font-family:arial\,sans-serif"><span style="font-size:10.0pt">.</span></span></span><br />\n<span style="color:black"><span style="font-family:arial\,sans-serif"><span style="font-size:10.0pt">The Hoover-Mason Tresle is the walk-way to the Steel Stacks Visitor Center with the backdrop being the remains of Bethlehem Steel a 10-minute walk to the closest stairs\, The HMT was once used as a narrow-gauge railroad to carry the coke\, limestone and iron ore needed to make the iron from the ore yards to the blast furnaces. Now a public walkway designed to be part museum\, part community recreation resource\, and part attraction\, the trestle stands 46 feet tall and 2\,000 feet long. HMT is located along the blast furnaces with one entrance at the Visitor Center and another at either end of the Gas Blowing Engine House. The indoor museum at the Visitor Center gives the history of Bethlehem Steel </span></span></span><a href="https://www.artsquest.org/hoover-mason-trestle-2"><span style="font-family:arial\,sans-serif"><span style="font-size:10.0pt">https://www.artsquest.org/hoover-mason-trestle-2</span></span></a><span style="color:black"><span style="font-family:arial\,sans-serif"><span style="font-size:10.0pt">.</span></span></span><br />\n&nbsp\;<br />\n<span style="font-size:9.0pt">Tour includes: Round Trip Deluxe Motorcoach\, $25.00 Slot FREE Play per person\, Free time at Wind Creek Casino\, Free time at the HMT\, Free time at Wind Creek Outlets\, Experienced and Knowledgeable Tour Representative\, Water and snacks on the Motorcoach\, and all Taxes. The day is yours you may stay all day at the casino or use one of the additional options to fill your day.</span><br />\n<span style="color:#1A2B49"><span style="font-family:arial\,sans-serif"><span style="font-size:9.0pt">Certified</span></span></span><br />\n&nbsp\;<br />\n<strong><span style="font-family:arial\,sans-serif"><span style="font-size:10.0pt">Cost Per Person</span></span></strong><span style="font-family:arial\,sans-serif"><span style="font-size:10.0pt">: $99:00</span></span><br />\n<span style="color:black"><span style="font-family:arial\,sans-serif"><span style="font-size:9.0pt">Your reservation is guaranteed when the deposit is made. Accepting &ndash\; Checks\, Credit Card\, Money Order\, Venmo\, PayPal\, or ACH Transfer.</span></span></span>
LOCATION:Wind Creek Casino\, Bethlehem\, PA
UID:e.3375.1614
SEQUENCE:3
DTSTAMP:20260425T164126Z
URL:https://business.manheimchamber.com/events/details/bus-tour-march-3-2024-wind-creek-casino-bethlehem-pa-1614
END:VEVENT

END:VCALENDAR
