BEGIN:VCALENDAR
VERSION:2.0
PRODID:-//ChamberMaster//Event Calendar 2.0//EN
METHOD:PUBLISH
X-PUBLISHED-TTL:P3D
REFRESH-INTERVAL:P3D
CALSCALE:GREGORIAN
BEGIN:VEVENT
DTSTART:20240605T103000Z
DTEND:20240606T003000Z
X-MICROSOFT-CDO-ALLDAYEVENT:FALSE
SUMMARY:Bus Tour – June 5\, 2024 Lady River Cruise\, Toms River\, NJ & Tuckerton Seaport\, NJ
DESCRIPTION:Bus Tour    June 5\, 2024\n\nLady River Cruise\, Toms River\, NJ & Tuckerton Seaport\, NJ\n\nDepart Willow Street 6:35 AM\, Lancaster 7:15 AM\, and Ephrata 8:00 AM. All times are approximate.\n\n\n\nSpend a day on the water enjoying two different boat tours\, Toms River and Tuckerton Seaport\, NJ. \n\nThis tour requires minimal walking.\n\n \n\nWe start our day in Toms River\, New Jersey. Join us for a delightful 3-hour cruise including lunch on the River Lady\, a 150-passenger\, 85  authentic reproduction of a paddle wheel riverboat. The iconic River Lady\, sailing down the scenic Toms River\, and beautiful Barnegat Bay\, is a distinctive event venue.  She is the only genuine paddle-wheel boat in the entire state since 1989. The River Lady passes lovely waterfront homes\, magnificent properties\, docks\, yacht clubs\, historic areas\, and often sailboat races. Whatever the occasion\, the nautical setting\, delicious food\, and friendly service\, will provide you\, and yours\, with fond memories of your celebration\, for years to come. https://riverlady.com/\n\n  \n\n After debarking from River Lady\, we board the bus and depart for Tuckerton Seaport\, New Jersey. The Seaport has evolved over the past twenty-two years into a community museum occupying 40 acres located along Tuckerton Creek. Tuckerton Seaport offers a maritime experience with a focus on regional history and culture. You will have time to explore historic buildings\, maritime exhibits\, and hands-on activities\, providing insight into the area's rich maritime heritage. Your tour includes a guided pontoon boat tour on the Pohatcong II\, a 30-foot pontoon boat\, while you sail down the length of Tuckerton Creek. Learn about the rich history of the area while experiencing the wildlife of the creek firsthand. Your admission also includes admission to all the museums at Tuckerton Seaport including the Yacht Club\, Hunting Shanty\, Union Market\, Captain's House & Tea Room\, Lighthouse\, Parker's Decoys\, Crest Fishery\, and more. https://tuckertonseaport.org\n\n \n\nTour includes: Round Trip Deluxe Motorcoach\, 3-hour River Lady Boat Tour including a plated lunch\, All Pass at Tuckerton Seaport including a 45-minute pontoon boat tour and admission to the museums including the opportunity to climb the Lighthouse\, Experienced and Knowledgeable Tour Representative\, Water and snacks on the Motorcoach\, and all Taxes. \n\nCertified
X-ALT-DESC;FMTTYPE=text/html:<strong><span style="font-family:arial\,sans-serif"><span style="font-size:11.0pt">Bus Tour &ndash\; &nbsp\;June 5\, 2024</span></span></strong><br />\n<strong><span style="font-family:arial\,sans-serif">Lady River Cruise\, Toms River\, NJ &amp\; Tuckerton Seaport\, NJ</span></strong><br />\n<strong><span style="font-family:arial\,sans-serif"><span style="font-size:9.0pt">Depart Willow Street 6</span></span></strong><strong><span style="color:windowtext"><span style="font-family:arial\,sans-serif"><span style="font-size:9.0pt">:35 </span></span></span></strong><strong><span style="font-family:arial\,sans-serif"><span style="font-size:9.0pt">AM\, Lancaster 7:15 AM\, and </span></span></strong><strong><span style="color:windowtext"><span style="font-family:arial\,sans-serif"><span style="font-size:9.0pt">Ephrata 8</span></span></span></strong><strong><span style="font-family:arial\,sans-serif"><span style="font-size:9.0pt">:00 AM. All times are approximate.</span></span></strong><br />\n<br />\n<strong><span style="color:red"><span style="font-family:arial\,sans-serif"><span style="font-size:9.0pt">Spend a day on the water enjoying two different boat tours\, Toms River and Tuckerton Seaport\, NJ. </span></span></span></strong><br />\n<strong><span style="color:red"><span style="font-family:arial\,sans-serif"><span style="font-size:9.0pt">This tour requires minimal walking.</span></span></span></strong><br />\n&nbsp\;<br />\n<span style="color:black"><span style="font-family:arial\,sans-serif"><span style="font-size:10.0pt">We start our day in Toms River\, New Jersey. Join us for a delightful 3-hour cruise including lunch on the River Lady\, a 150-passenger\, 85&prime\; authentic reproduction of a paddle wheel riverboat. The iconic River Lady\, sailing down the scenic Toms River\, and beautiful Barnegat Bay\, is a distinctive event venue.&nbsp\;&nbsp\;She is the only genuine paddle-wheel boat in the entire state since 1989.&nbsp\;The River Lady passes lovely waterfront homes\, magnificent properties\, docks\, yacht clubs\, historic areas\, and often sailboat races. Whatever the occasion\, the nautical setting\, delicious food\, and friendly service\, will provide you\, and yours\, with fond memories of your celebration\, for years to come. </span></span></span><a href="https://riverlady.com/"><span style="font-family:arial\,sans-serif"><span style="font-size:10.0pt">https://riverlady.com/</span></span></a><br />\n&nbsp\;&nbsp\;<br />\n&nbsp\;<span style="color:black"><span style="font-family:arial\,sans-serif"><span style="font-size:10.0pt">After debarking from River Lady\, we board the bus and depart for Tuckerton Seaport\, New Jersey. The Seaport has evolved over the past twenty-two years into a community museum occupying 40 acres located along Tuckerton Creek. </span></span></span><span style="color:#222222"><span style="font-family:arial\,sans-serif"><span style="font-size:10.0pt">Tuckerton Seaport offers a maritime experience with a focus on regional history and culture. You will have time to explore historic buildings\, maritime exhibits\, and hands-on activities\, providing insight into the area&rsquo\;s rich maritime heritage. Your tour includes a guided pontoon boat tour on the Pohatcong II\, a 30-foot pontoon boat\, while you sail down the length of Tuckerton Creek. Learn about the rich history of the area while experiencing the wildlife of the creek firsthand. Your admission also includes admission to all the museums at Tuckerton Seaport including the Yacht Club\, Hunting Shanty\, Union Market\, Captain&rsquo\;s House &amp\; Tea Room\, Lighthouse\, Parker&rsquo\;s Decoys\, Crest Fishery\, and more. </span></span></span><a href="https://tuckertonseaport.org/"><span style="font-family:arial\,sans-serif"><span style="font-size:10.0pt">https://tuckertonseaport.org</span></span></a><br />\n&nbsp\;<br />\n<span style="font-size:9.0pt">Tour includes: Round Trip Deluxe Motorcoach\, 3-hour River Lady Boat Tour including a plated lunch\, All Pass at Tuckerton Seaport including a 45-minute pontoon boat tour and admission to the museums including the opportunity to climb the Lighthouse\, Experienced and Knowledgeable Tour Representative\, Water and snacks on the Motorcoach\, and all Taxes. </span><br />\n<span style="color:#1A2B49"><span style="font-family:arial\,sans-serif"><span style="font-size:9.0pt">Certified</span></span></span><br />\n&nbsp\;<br />\n&nbsp\;
LOCATION:Tom's River & Tuckerton Seaport\, New Jersey
UID:e.3375.1613
SEQUENCE:3
DTSTAMP:20260425T115455Z
URL:https://business.manheimchamber.com/events/details/bus-tour-june-5-2024-lady-river-cruise-toms-river-nj-tuckerton-seaport-nj-1613
END:VEVENT

END:VCALENDAR
