BEGIN:VCALENDAR
VERSION:2.0
PRODID:-//ChamberMaster//Event Calendar 2.0//EN
METHOD:PUBLISH
X-PUBLISHED-TTL:P3D
REFRESH-INTERVAL:P3D
CALSCALE:GREGORIAN
BEGIN:VEVENT
DTSTART:20240622T100000Z
DTEND:20240627T230000Z
X-MICROSOFT-CDO-ALLDAYEVENT:FALSE
SUMMARY:Bus Tour - Island Hopping on the South Coast of New England
DESCRIPTION:Bus Tour   ISLAND HOPPING ON THE SOUTH COAST OF NEW ENGLAND \n\nJune  22-27\, 2024\n\nBus Departs Willow Street\, Lancaster\, Ephrata\,  PA\n\n\n\nLet the driving to us on this UPSCALE New England Bus Tour\n\nApproximate departure time: Willow Street - 5:00 AM\, Lancaster - 6:00 AM\, Denver - 6:45 AM\n\n \n\nSaturday\, June 22\n\n	SWEET TREAT (homemade) is provided in the morning.\n	BREAKFAST stop included.\n	Lunch stop not included.\n	Welcome to the sandy shores of CAPE COD. Extending some 70 miles into the sea\, the Cape is home to both natural beauty and quaint colonial villages. From the moment you arrive at the hotel in Cape Cod\, you will feel a sense of peace. This resort-style hotel was redesigned by a local Cape Cod Architectural firm\, incorporating a sophisticated New England nautical theme that celebrates the spirit of the coast and its storied maritime heritage. \n	Check-in to the HYANNIS HARBOR HOTEL for your 3-NIGHT STAY. https://www.hyannisharborhotel.com\n	DINNER is included this evening.\n\nSunday\, June 23\n\n\n	Enjoy BREAKFAST at the hotel this morning.\n	Your LOCAL GUIDE will meet you at your hotel.\n	Depart the hotel and walk across the street to the docks. Check-in at the HY-LINE DOCKS for ticketing and boarding of the 9:00 am ferry to the island of MARTHA'S VINEYARD. https://www.mvy.com\n	Upon arrival you will board a local bus for a SIGHTSEEING TOUR. You will learn about the history and lifestyles of the islanders as you pass through Vineyard Haven. https://www.adventurouskate.com/vineyard-haven\n	Enjoy free time for lunch and shopping in the historic whaling town of Edgartown. https://www.edgartown-ma.us\n	Complete your day on the island in Oak Bluffs. You may choose to stroll through "Cottage City" with its brightly painted cottages and decorative "gingerbread" trim. https://www.oakbluffsma.gov/35/Visiting\n	Depart the island.\n	LOBSTER DINNER is included this evening. Alternate entrees will be available for any "landlubbers" not wishing to eat shellfish.\n\n Monday\, June 24\n\n\n	BREAKFAST is included at the hotel this morning.\n\n\n\n	Your LOCAL GUIDE will meet you at your hotel. \n	Depart the hotel and walk across the street to the docks. Check in at the HY-LINE DOCKS where you will board the 9:30 am ferry to the stunning island of NANTUCKET. https://www.nantucket-ma.gov/854/Visitor-Information\n	Upon arrival your guide will point out the restaurants\, galleries\, shops\, and museums that are within walking distance of the dock.\n	Admission is included on a NANTUCKET ISLAND TOUR.\n	Lunch and shopping are on your own. Please remember to wear comfortable walking shoes for the cobblestone streets and brick sidewalks that line Nantucket's downtown area.\n	Admission is included to the NANTUCKET WHALING MUSEUM (at your leisure). https://nha.org\n	Depart the island.\n	DINNER is included this evening.\n\nTuesday\, June 25\n\n\n	BREAKFAST is included at the hotel this morning.\n	Check out and travel to RHODE ISLAND\, the "Ocean State".\n	Arrive in NEWPORT where your LOCAL GUIDE will meet you at the Transportation Center.\n	Enjoy the charm of Newport's historic buildings and restored homes on this narrated tour covering over 150 points of interest. Take in the rugged beauty of Ten-Mile Ocean Drive and the fabulous mansions along tree-lined Bellevue Avenue.\n	Enjoy free time for lunch and shopping on your own downtown.\n	ADMISSION is included on a self-guided tour of the BREAKERS MANSION. The Breakers is the grandest of Newport's summer "cottages" and a symbol of the Vanderbilt family's social and financial preeminence in turn of the century America. https://www.newportmansions.org/mansions-and-gardens/the-breakers\n	Check into the WYNDHAM NEWPORT for your 2-NIGHT STAY. Enjoy an idyllic New England escape at our Wyndham Newport Hotel\, offering modern accommodations\, exceptional amenities\, and spectacular water views. Situated in picturesque Middletown\, our contemporary hotel is just three miles from downtown Newport\, reachable via our convenient shuttle. Top attractions such as the Newport Mansions\, Newport Cliff Walk\, and International Tennis Hall of Fame  are just minutes away. https://www.wyndhamhotels.com/wyndham/middletown-rhode-island\n	DINNER is included this evening.\n\nWednesday\, June 26\n\n\n	BREAKFAST is included at the hotel this morning.\n	Check in for ticketing and boarding in Point Judith for the Ferry to BLOCK ISLAND. Known as Manisses (the Little God's Island) by the Narragansett Indians this island is just 10 square miles. Pristine beaches protected by lighthouses and spectacular bluffs offer breathtaking views. https://www.blockislandinfo.com  \n	Admission is included on a SIGHTSEEING TOUR. NATIONAL HOTEL. \n	There will be time for a light lunch and browsing alone. \n	LOBSTERBAKE DINNER is included on the porch of the HISTORIC NATIONAL HOTEL https://www.blockislandhotels.com\n	Ferry back to the mainland and return to the hotel for the evening.\n\n \n\nThursday\, June 27\n\n\n	BREAKFAST is included at the hotel this morning\n	Check out and depart your hotel.\n	Arrive at Bowen Wharf for cruise check-in. Welcome aboard the COASTAL QUEEN for a 75-minute Harbor Cruise. https://www.coastalqueencruises.com\n	Arrive back on dry land board your coach and depart for home with wonderful memories of the New England summer coast.\n	A FAREWELL LUNCH is included en route.\n\nTour includes: Round Trip Deluxe Motorcoach\, 3 Nights of Accommodations at the HYANNIS HARBOR HOTEL (Poolside Rooms)\, 2 Nights of Accommodations at the WYNDHAM HOTEL NEWPORT/MIDDLETOWN\, Round Trip Luggage Handling (one bag per person at each hotel)\, Guide Escort to the Island of Martha's Vineyard\, Round-Trip Ferry Passage to Martha's Vineyard\, Admission on a Island Sightseeing Tour of Martha's Vineyard\, Guide Escort to the Island of Nantucket\, Round-Trip Ferry Passage to Nantucket\, Admission on a Sightseeing Tour of Nantucket\, Admission to the Nantucket Whaling Museum\, Guided Tour of Newport\, Admission on a Self-Guided Tour of the Breakers Mansion\, Round-Trip Ferry Passage from Pt. Judith to Block Island\, Admission on a Sightseeing Tour of Block Island\, Admission on a 75 Minute Lighthouse Cruise in Narragansett Bay\, 1 Sweet Treat\, 6 Breakfasts\, 2 Dinners on Cape Cod\, 1 Lobster Choice Dinner on Cape Cod\, 1 Dinner in Newport\,1 Lobster Dinner at the Historic National Hotel on Block Island\, 1 lunch\, Water & Snacks on the motorcoach\, Knowledgeable and Experienced Tour Representative\, and all taxes.
X-ALT-DESC;FMTTYPE=text/html:<strong><span style="font-family:arial\,sans-serif"><span style="font-size:12.0pt">Bus Tour &ndash\; ISLAND HOPPING ON THE SOUTH COAST OF NEW ENGLAND </span></span></strong><br />\n<strong><span style="font-family:arial\,sans-serif"><span style="font-size:12.0pt">June &nbsp\;22-27\, 2024</span></span></strong><br />\n<strong><span style="font-family:arial\,sans-serif"><span style="font-size:12.0pt">Bus Departs Willow Street\, Lancaster\, Ephrata\, &nbsp\;PA</span></span></strong><br />\n<br />\n<strong><span style="color:black"><span style="font-family:arial\,sans-serif"><span style="font-size:12.0pt">Let the driving to us on this </span></span></span></strong><strong><span style="color:red"><span style="font-family:arial\,sans-serif"><span style="font-size:12.0pt">UPSCALE</span></span></span></strong><strong><span style="color:black"><span style="font-family:arial\,sans-serif"><span style="font-size:12.0pt"> New England Bus Tour</span></span></span></strong><br />\n<em><span style="color:windowtext"><span style="font-family:times new roman\,serif"><span style="font-size:12.0pt">Approximate departure time: Willow Street - 5:00 AM\, Lancaster - 6:00 AM\, Denver - 6:45 AM</span></span></span></em><br />\n&nbsp\;<br />\n<strong><span style="color:#212529"><span style="font-family:helvetica\,sans-serif"><span style="font-size:10.5pt">Saturday\, June 22</span></span></span></strong>\n<ul>\n	<li><strong><u><span style="color:red"><span style="font-family:helvetica\,sans-serif"><span style="font-size:10.5pt">SWEET TREAT</span></span></span></u></strong><span style="color:black"><span style="font-family:helvetica\,sans-serif"><span style="font-size:10.5pt"> (homemade) </span></span></span><span style="font-family:helvetica\,sans-serif"><span style="font-size:10.5pt">is provided in the morning.</span></span></li>\n	<li><strong><u><span style="color:red"><span style="font-family:helvetica\,sans-serif"><span style="font-size:10.5pt">BREAKFAST</span></span></span></u></strong> <span style="color:black"><span style="font-family:helvetica\,sans-serif"><span style="font-size:10.5pt">stop included</span></span></span><span style="font-family:helvetica\,sans-serif"><span style="font-size:10.5pt">.</span></span></li>\n	<li><span style="color:black"><span style="font-family:helvetica\,sans-serif"><span style="font-size:10.5pt">Lunch stop not included.</span></span></span></li>\n	<li><span style="color:#212529"><span style="font-family:helvetica\,sans-serif"><span style="font-size:10.5pt">Welcome to the sandy shores of&nbsp\;<strong><span style="font-family:helvetica\,sans-serif">CAPE&nbsp\;COD</span></strong>. Extending some 70 miles into the sea\, the Cape is home to both natural beauty and quaint colonial villages.</span></span></span> <span style="color:windowtext"><span style="font-family:arial\,sans-serif"><span style="font-size:10.5pt">From the moment you arrive at the hotel in Cape Cod\, you will feel a sense of peace. This resort-style hotel was redesigned by a local Cape Cod Architectural firm\, incorporating a sophisticated New England nautical theme that celebrates the spirit of the coast and its storied maritime heritage. </span></span></span></li>\n	<li><span style="font-family:helvetica\,sans-serif"><span style="font-size:10.5pt">Check-in to the&nbsp\;<strong><span style="font-family:helvetica\,sans-serif">HYANNIS HARBOR HOTEL</span></strong>&nbsp\;for your&nbsp\;<strong><span style="font-family:helvetica\,sans-serif">3-NIGHT STAY</span></strong>.</span></span><span style="color:#00000A"> <a href="https://www.hyannisharborhotel.com/"><span style="font-family:helvetica\,sans-serif"><span style="font-size:10.5pt">https://www.hyannisharborhotel.com</span></span></a></span></li>\n	<li><strong><span style="color:red"><span style="font-family:helvetica\,sans-serif"><span style="font-size:10.5pt">DINNER</span></span></span></strong><span style="font-family:helvetica\,sans-serif"><span style="font-size:10.5pt">&nbsp\;is included this evening.</span></span></li>\n</ul>\n<strong><span style="color:#212529"><span style="font-family:helvetica\,sans-serif"><span style="font-size:10.5pt">Sunday\, June 23</span></span></span></strong>\n\n<ul>\n	<li><span style="font-family:helvetica\,sans-serif"><span style="font-size:10.5pt">Enjoy&nbsp\;</span></span><strong><span style="color:red"><span style="font-family:helvetica\,sans-serif"><span style="font-size:10.5pt">BREAKFAST</span></span></span></strong><span style="font-family:helvetica\,sans-serif"><span style="font-size:10.5pt">&nbsp\;at the hotel this morning.</span></span></li>\n	<li><span style="font-family:helvetica\,sans-serif"><span style="font-size:10.5pt">Your&nbsp\;<strong><span style="font-family:helvetica\,sans-serif">LOCAL GUIDE</span></strong>&nbsp\;will meet you at your hotel.</span></span></li>\n	<li><span style="font-family:helvetica\,sans-serif"><span style="font-size:10.5pt">Depart the hotel and walk across the street to the docks. Check-in at the&nbsp\;<strong><span style="font-family:helvetica\,sans-serif">HY-LINE DOCKS</span></strong>&nbsp\;for ticketing and boarding of the 9:00 am ferry to the island of&nbsp\;<strong><span style="font-family:helvetica\,sans-serif">MARTHA&rsquo\;S VINEYARD</span></strong>. </span></span><span style="color:#00000A"><a href="https://www.mvy.com/"><span style="font-family:helvetica\,sans-serif"><span style="font-size:10.5pt">https://www.mvy.com</span></span></a></span></li>\n	<li><span style="font-family:helvetica\,sans-serif"><span style="font-size:10.5pt">Upon arrival you will board a local bus for a&nbsp\;<strong><span style="font-family:helvetica\,sans-serif">SIGHTSEEING TOUR</span></strong>. You will learn about the history and lifestyles of the islanders as you pass through Vineyard Haven</span></span><span style="color:#00000A"><a href="file:///C:/Users/gass5/Documents/Documents/Trips/2024%20Island%20Hopping/.%20https:/www.adventurouskate.com/vineyard-haven"><span style="font-family:helvetica\,sans-serif"><span style="font-size:10.5pt">. https://www.adventurouskate.com/vineyard-haven</span></span></a></span></li>\n	<li><span style="font-family:helvetica\,sans-serif"><span style="font-size:10.5pt">Enjoy&nbsp\;free time for lunch and shopping in the historic whaling town of Edgartown. </span></span><span style="color:#00000A"><a href="https://www.edgartown-ma.us/"><span style="font-family:helvetica\,sans-serif"><span style="font-size:10.5pt">https://www.edgartown-ma.us</span></span></a></span></li>\n	<li><span style="font-family:helvetica\,sans-serif"><span style="font-size:10.5pt">Complete your day on the island in Oak Bluffs. You may choose to stroll through &quot\;Cottage City&quot\; with its brightly painted cottages and decorative &quot\;gingerbread&quot\; trim. </span></span><span style="color:#00000A"><a href="https://www.oakbluffsma.gov/35/Visiting"><span style="font-family:helvetica\,sans-serif"><span style="font-size:10.5pt">https://www.oakbluffsma.gov/35/Visiting</span></span></a></span></li>\n	<li><span style="font-family:helvetica\,sans-serif"><span style="font-size:10.5pt">Depart the island.</span></span></li>\n	<li><strong><span style="color:red"><span style="font-family:helvetica\,sans-serif"><span style="font-size:10.5pt">LOBSTER DINNER</span></span></span></strong><span style="font-family:helvetica\,sans-serif"><span style="font-size:10.5pt">&nbsp\;is included this evening. Alternate entrees will be available for any &quot\;landlubbers&quot\; not wishing to eat shellfish.</span></span></li>\n</ul>\n&nbsp\;<strong><span style="color:#212529"><span style="font-family:helvetica\,sans-serif"><span style="font-size:10.5pt">Monday\, June 24</span></span></span></strong>\n\n<ul>\n	<li><strong><span style="color:red"><span style="font-family:helvetica\,sans-serif"><span style="font-size:10.5pt">BREAKFAST</span></span></span></strong><span style="color:#212529"><span style="font-family:helvetica\,sans-serif"><span style="font-size:10.5pt">&nbsp\;is included at the hotel this morning.</span></span></span></li>\n</ul>\n\n<ul>\n	<li><span style="font-family:helvetica\,sans-serif"><span style="font-size:10.5pt">Your&nbsp\;<strong><span style="font-family:helvetica\,sans-serif">LOCAL GUIDE</span></strong>&nbsp\;will meet you at your hotel.&nbsp\;</span></span></li>\n	<li><span style="font-family:helvetica\,sans-serif"><span style="font-size:10.5pt">Depart the hotel and walk across the street to the docks. Check in at the&nbsp\;<strong><span style="font-family:helvetica\,sans-serif">HY-LINE DOCKS</span></strong>&nbsp\;where you will board the 9:30 am ferry to the stunning island of&nbsp\;<strong><span style="font-family:helvetica\,sans-serif">NANTUCKET</span></strong>. </span></span><span style="color:#00000A"><a href="https://www.nantucket-ma.gov/854/Visitor-Information"><span style="font-family:helvetica\,sans-serif"><span style="font-size:10.5pt">https://www.nantucket-ma.gov/854/Visitor-Information</span></span></a></span></li>\n	<li><span style="font-family:helvetica\,sans-serif"><span style="font-size:10.5pt">Upon arrival your guide will point out the restaurants\, galleries\, shops\, and museums that are within walking distance of the dock.</span></span></li>\n	<li><span style="font-family:helvetica\,sans-serif"><span style="font-size:10.5pt">Admission is included on a&nbsp\;<strong><span style="font-family:helvetica\,sans-serif">NANTUCKET ISLAND TOUR</span></strong>.</span></span></li>\n	<li><span style="font-family:helvetica\,sans-serif"><span style="font-size:10.5pt">Lunch and shopping are on your own. Please remember to wear comfortable walking shoes for the cobblestone </span></span><span style="color:black"><span style="font-family:helvetica\,sans-serif"><span style="font-size:10.5pt">streets</span></span></span><span style="font-family:helvetica\,sans-serif"><span style="font-size:10.5pt"> and brick sidewalks that line Nantucket&rsquo\;s downtown </span></span><span style="color:black"><span style="font-family:helvetica\,sans-serif"><span style="font-size:10.5pt">area</span></span></span><span style="font-family:helvetica\,sans-serif"><span style="font-size:10.5pt">.</span></span></li>\n	<li><span style="font-family:helvetica\,sans-serif"><span style="font-size:10.5pt">Admission is included to the&nbsp\;<strong><span style="font-family:helvetica\,sans-serif">NANTUCKET WHALING MUSEUM&nbsp\;</span></strong>(at your leisure).&nbsp\;</span></span><span style="color:#00000A"><a href="https://nha.org/"><span style="font-family:helvetica\,sans-serif"><span style="font-size:10.5pt">https://nha.org</span></span></a></span></li>\n	<li><span style="font-family:helvetica\,sans-serif"><span style="font-size:10.5pt">Depart the island.</span></span></li>\n	<li><strong><span style="color:red"><span style="font-family:helvetica\,sans-serif"><span style="font-size:10.5pt">DINNER</span></span></span></strong><span style="font-family:helvetica\,sans-serif"><span style="font-size:10.5pt">&nbsp\;is included this evening.</span></span></li>\n</ul>\n<strong><span style="color:#212529"><span style="font-family:helvetica\,sans-serif"><span style="font-size:10.5pt">Tuesday\, June 25</span></span></span></strong>\n\n<ul>\n	<li><strong><span style="color:red"><span style="font-family:helvetica\,sans-serif"><span style="font-size:10.5pt">BREAKFAST</span></span></span></strong><span style="font-family:helvetica\,sans-serif"><span style="font-size:10.5pt">&nbsp\;is included at the hotel this morning.</span></span></li>\n	<li><span style="font-family:helvetica\,sans-serif"><span style="font-size:10.5pt">Check out and travel to&nbsp\;<strong><span style="font-family:helvetica\,sans-serif">RHODE ISLAND</span></strong>\, the &quot\;Ocean State&quot\;.</span></span></li>\n	<li><span style="font-family:helvetica\,sans-serif"><span style="font-size:10.5pt">Arrive in&nbsp\;<strong><span style="font-family:helvetica\,sans-serif">NEWPORT</span></strong>&nbsp\;where your&nbsp\;<strong><span style="font-family:helvetica\,sans-serif">LOCAL GUIDE</span></strong>&nbsp\;will meet you at the Transportation Center.</span></span></li>\n	<li><span style="font-family:helvetica\,sans-serif"><span style="font-size:10.5pt">Enjoy the charm of Newport&rsquo\;s historic buildings and restored homes on this narrated tour covering over 150 points of interest. Take in the rugged beauty of Ten-Mile Ocean Drive and the fabulous mansions along tree-lined Bellevue Avenue.</span></span></li>\n	<li><span style="font-family:helvetica\,sans-serif"><span style="font-size:10.5pt">Enjoy&nbsp\;free time for lunch and shopping on your own downtown.</span></span></li>\n	<li><strong><span style="font-family:helvetica\,sans-serif"><span style="font-size:10.5pt">ADMISSION</span></span></strong><span style="font-family:helvetica\,sans-serif"><span style="font-size:10.5pt">&nbsp\;is included on a self-guided tour of the&nbsp\;<strong><span style="font-family:helvetica\,sans-serif">BREAKERS MANSION</span></strong>. The Breakers is the grandest of Newport&rsquo\;s summer &quot\;cottages&quot\; and a symbol of the Vanderbilt family&#39\;s social and financial preeminence in turn of the century America. </span></span><span style="color:#00000A"><a href="https://www.newportmansions.org/mansions-and-gardens/the-breakers"><span style="font-family:helvetica\,sans-serif"><span style="font-size:10.5pt">https://www.newportmansions.org/mansions-and-gardens/the-breakers</span></span></a></span></li>\n	<li><span style="color:#212529"><span style="font-family:helvetica\,sans-serif"><span style="font-size:10.5pt">Check into the&nbsp\;<strong><span style="font-family:helvetica\,sans-serif">WYNDHAM NEWPORT</span></strong>&nbsp\;for your&nbsp\;<strong><span style="font-family:helvetica\,sans-serif">2-NIGHT STAY</span></strong></span></span></span><span style="color:#212529"><span style="font-family:arial\,sans-serif"><span style="font-size:10.5pt">. </span></span></span><span style="color:windowtext"><span style="font-family:arial\,sans-serif"><span style="font-size:10.5pt">Enjoy an idyllic New England escape at our Wyndham Newport Hotel\, offering modern accommodations\, exceptional amenities\, and spectacular water views. Situated in picturesque Middletown\, our contemporary hotel is just three miles from downtown Newport\, reachable via our convenient shuttle. Top attractions such as the Newport Mansions\, Newport Cliff Walk\, and International Tennis Hall of Fame&reg\; are just minutes away. </span></span></span><a href="https://www.wyndhamhotels.com/wyndham/middletown-rhode-island"><span style="font-family:helvetica\,sans-serif"><span style="font-size:10.5pt">https://www.wyndhamhotels.com/wyndham/middletown-rhode-island</span></span></a></li>\n	<li><strong><span style="color:red"><span style="font-family:helvetica\,sans-serif"><span style="font-size:10.5pt">DINNER</span></span></span></strong><span style="font-family:helvetica\,sans-serif"><span style="font-size:10.5pt">&nbsp\;is included this evening.</span></span></li>\n</ul>\n<strong><span style="color:#212529"><span style="font-family:helvetica\,sans-serif"><span style="font-size:10.5pt">Wednesday\, June 26</span></span></span></strong>\n\n<ul>\n	<li><strong><span style="color:red"><span style="font-family:helvetica\,sans-serif"><span style="font-size:10.5pt">BREAKFAST</span></span></span></strong><span style="font-family:helvetica\,sans-serif"><span style="font-size:10.5pt">&nbsp\;is included at the hotel this morning.</span></span></li>\n	<li><span style="font-family:helvetica\,sans-serif"><span style="font-size:10.5pt">Check in for ticketing and boarding in Point Judith for the Ferry to&nbsp\;<strong><span style="font-family:helvetica\,sans-serif">BLOCK ISLAND</span></strong>. Known as Manisses (the Little God&rsquo\;s Island) by the Narragansett Indians this island is just 10 square miles. Pristine beaches protected by lighthouses and spectacular bluffs offer breathtaking views.</span></span><span style="color:#00000A"> <a href="https://www.blockislandinfo.com%20%20/"><span style="font-family:helvetica\,sans-serif"><span style="font-size:10.5pt">https://www.blockislandinfo.com&nbsp\;&nbsp\;</span></span></a></span></li>\n	<li><span style="font-family:helvetica\,sans-serif"><span style="font-size:10.5pt">Admission is included on a&nbsp\;<strong><span style="font-family:helvetica\,sans-serif">SIGHTSEEING TOUR</span></strong>.<strong><span style="font-family:helvetica\,sans-serif"> NATIONAL&nbsp\;HOTEL</span></strong>.&nbsp\;</span></span></li>\n	<li><span style="font-family:helvetica\,sans-serif"><span style="font-size:10.5pt">There will be time for a light lunch and browsing alone.&nbsp\;</span></span></li>\n	<li><strong><span style="color:red"><span style="font-family:helvetica\,sans-serif"><span style="font-size:10.5pt">LOBSTERBAKE DINNER</span></span></span></strong><span style="font-family:helvetica\,sans-serif"><span style="font-size:10.5pt">&nbsp\;is included on the porch of the&nbsp\;<strong><span style="font-family:helvetica\,sans-serif">HISTORIC NATIONAL HOTEL </span></strong></span></span><span style="color:#00000A"><a href="https://www.blockislandhotels.com/"><span style="font-family:helvetica\,sans-serif"><span style="font-size:10.5pt">https://www.blockislandhotels.com</span></span></a></span></li>\n	<li><span style="font-family:helvetica\,sans-serif"><span style="font-size:10.5pt">Ferry back to the mainland and return to the hotel for the evening.</span></span></li>\n</ul>\n&nbsp\;<br />\n<strong><span style="color:#212529"><span style="font-family:helvetica\,sans-serif"><span style="font-size:10.5pt">Thursday\, June 27</span></span></span></strong>\n\n<ul>\n	<li><strong><span style="color:red"><span style="font-family:helvetica\,sans-serif"><span style="font-size:10.5pt">BREAKFAST</span></span></span></strong><span style="font-family:helvetica\,sans-serif"><span style="font-size:10.5pt">&nbsp\;is included at the hotel this morning</span></span></li>\n	<li><span style="font-family:helvetica\,sans-serif"><span style="font-size:10.5pt">Check out and depart your hotel.</span></span></li>\n	<li><span style="font-family:helvetica\,sans-serif"><span style="font-size:10.5pt">Arrive at Bowen Wharf for cruise check-in. Welcome aboard the&nbsp\;<strong><span style="font-family:helvetica\,sans-serif">COASTAL QUEEN</span></strong>&nbsp\;for a 75-minute Harbor Cruise. </span></span><span style="color:#00000A"><a href="https://www.coastalqueencruises.com/"><span style="font-family:helvetica\,sans-serif"><span style="font-size:10.5pt">https://www.coastalqueencruises.com</span></span></a></span></li>\n	<li><span style="font-family:helvetica\,sans-serif"><span style="font-size:10.5pt">Arrive back on dry land board your coach and depart for home with wonderful memories of the New England summer coast.</span></span></li>\n	<li><span style="font-family:helvetica\,sans-serif"><span style="font-size:10.5pt">A&nbsp\;</span></span><strong><span style="color:red"><span style="font-family:helvetica\,sans-serif"><span style="font-size:10.5pt">FAREWELL LUNCH</span></span></span></strong><span style="font-family:helvetica\,sans-serif"><span style="font-size:10.5pt">&nbsp\;is included en route.</span></span></li>\n</ul>\n<span style="font-family:arial\,sans-serif"><span style="font-size:12.0pt">Tour includes: </span></span><span style="font-family:arial\,sans-serif">Round Trip Deluxe Motorcoach\, 3 Nights of Accommodations at the HYANNIS HARBOR HOTEL (Poolside Rooms)\, 2 Nights of Accommodations at the WYNDHAM HOTEL NEWPORT/MIDDLETOWN\, Round Trip Luggage Handling (one bag per person at each hotel)\, Guide Escort to the Island of Martha&rsquo\;s Vineyard\, Round-Trip Ferry Passage to Martha&rsquo\;s Vineyard\, Admission on a Island Sightseeing Tour of Martha&rsquo\;s Vineyard\, Guide Escort to the Island of Nantucket\, Round-Trip Ferry Passage to Nantucket\, Admission on a Sightseeing Tour of Nantucket\, Admission to the Nantucket Whaling Museum\, Guided Tour of Newport\, Admission on a Self-Guided Tour of the Breakers Mansion\, Round-Trip Ferry Passage from Pt. Judith to Block Island\, Admission on a Sightseeing Tour of Block Island\, Admission on a 75 Minute Lighthouse Cruise in Narragansett Bay\, 1 Sweet Treat\, 6 Breakfasts\, 2 Dinners on Cape Cod\, 1 Lobster Choice Dinner on Cape Cod\, 1 Dinner in Newport\,1 Lobster Dinner at the Historic National Hotel on Block Island\, 1 lunch\, W</span><span style="color:black"><span style="font-family:arial\,sans-serif">ater &amp\; Snacks on the motorcoach\, Knowledgeable and Experienced Tour Representative\, and all taxes.</span></span><br />\n&nbsp\;
LOCATION:Hyannis\, MA\, Martha's Vineyard Island\, Nantucket Island\, Newport\, RI\, Breaker's Mansion\, Block Island
UID:e.3375.1595
SEQUENCE:3
DTSTAMP:20260425T115456Z
URL:https://business.manheimchamber.com/events/details/bus-tour-island-hopping-on-the-south-coast-of-new-england-1595
END:VEVENT

END:VCALENDAR
