BEGIN:VCALENDAR
VERSION:2.0
PRODID:-//ChamberMaster//Event Calendar 2.0//EN
METHOD:PUBLISH
X-PUBLISHED-TTL:P3D
REFRESH-INTERVAL:P3D
CALSCALE:GREGORIAN
BEGIN:VEVENT
DTSTART:20240418T113000Z
DTEND:20240421T233000Z
X-MICROSOFT-CDO-ALLDAYEVENT:FALSE
SUMMARY:Bus Tour - International Tattoo & Parade of Nations\, Norfolk\, VA
DESCRIPTION:Bus Tour   The Parade of Nations & Virginia International Tattoo\n\nApril 18-21\, 2024\n\n\n\nBus Departs Willow Street\, Lancaster & York  PA\n\nApproximate departure times\, Willow Street 6:30\, Lancaster 7:30\, and York 8:30 AM\n\n       \n\nJoin Bucket List Tours as we travel to Norfolk\, Virginia. Experiencing first-hand this thrill of fabulous pageantry and inspiring patriotism! This dazzling extravaganza of music\, ceremony\, and emotion at The Virginia International Tattoo Show! Enjoy the fabulous pageantry of Norfolk's Parade of Nations from your reserved seat! Visit different countries at NATOfest\, then board the Spirit of Norfolk for a fantastic dinner cruise complete with entertainment. Touring the Nauticus and Battleship Wisconsin and more on this 4-day   3 night bus tour. https://www.vafest.org/tattoo\n\n\n\n\n\nDay #1\n\nYour day starts with a SWEET TREAT as we depart for Norfolk\, VA. Having a lunch stop is not included along the way. Our destination is the Hampton Roads region where our accommodations are at the WYNDAM GARDEN DOWNTOWN HOTEL. After checking in you will have time to freshen up\, then enjoy an evening of DINNER at a local venue with a 5-PIECE BAND Big Band 50-60's music for your enjoyment.\n\n\n\nAccommodations: Wyndham Garden Norfolk Downtown\, 700 Monticello Avenue\, Norfolk\, VA 23510. Phone 757-627-5555.\n\nMeals: Sweet treat\, D\n\n \n\nDay #2 \n\n \n\nBREAKFAST this morning before traveling to NAUTICUS\, a maritime science museum. The museum celebrates the economic\, naval\, and natural power of the sea with exhibits\, films\, and the Hampton Roads Naval Museum. You are also welcome to go aboard the BATTLESHIP WISCONSIN which is connected to the museum. Explore the main deck and go below to learn what life was like on this great fighting lady. After your visit\, enjoy lunch on your own in the area. This afternoon you will visit the CHRYSLER MUSEUM OF ART\, one of America's great fine arts museums including the collection of automobile heir and art collector\, Walter P. Chrysler\, Jr. After your visit\, board the SPIRIT OF NORFOLK for a BUFFET DINNER\, MUSIC\, and ENTERTAINMENT as you sail along the Elizabeth River. After the cruise\, continue to Scope Arena for a performance of the VIRGINIA INTERNATIONAL TATTOO. "Tattoo" refers to a Scottish Military last call\, when pipes and drums called troops back to post for an evening ceremony. Long regarded as the most patriotic of the world's great tattoos\, the Virginia International Tattoo is a Scottish tradition with American Soul! The show will feature more than 1\,000 military and civilian performers from several nations who will share their unique music\, dance\, culture\, and pride with the audience as they showcase their individual excellence\, their esprit de corps\, and their friendship as nations. You will not only be entertained\, but you will be inspired when your hand touches your heart during the Star-Spangled Banner\, when you proudly stand during your family's service song\, and when you rise in solemn prayer as hundreds of pipers\, military musicians\, and singers join together to perform Amazing Grace.\n\n \n\nAccommodations: Wyndham Garden Norfolk Downtown\, Norfolk\, VA.  Phone 757-627-5555.\n\nMeals: D\n\n \n\n \n\nDay #3\n\n \n\nBREAKFAST this morning\, then depart for our reserved seats have been arranged for the 71st ANNUAL PARADE OF NATIONS. Sponsored by NATO\, the parade includes themed floats from each participating country reflecting their culture and heritage. There are also marching bands\, antique & classic cars\, comic brigades\, and much more. After the parade\, enjoy the NATOfest activities in Town Point Park featuring booths representing each of the NATO countries\, entertainment\, activities\, and food vendors. There will be time for lunch on your own in the area\, then continue to the MacArthur MEMORIAL   the final resting place of five-star general Douglas MacArthur. The memorial features mementos and gifts the famous general received throughout his career\, his staff car\, and a film on his life. After your visit\, return to the hotel for an opportunity to relax and freshen up before departing for CAPTAIN GEORGE'S SEAFOOD RESTAURANT for a fabulous SMORGASOARD DINNER.\n\n \n\nAccommodations: Wyndham Garden Norfolk Downtown\, Norfolk\, VA. Phone 757-627-5555.\n\nMeals: D\n\n  \n\nDay #4\n\n \n\nBREAKFAST this morning\, before departing to the MILITARY AVIATION MUSEUM\, located in Virginia Beach. The Military Aviation Museum is home to one of the world's largest collections of flying vintage military aircraft. This\n\nfacility includes over 50 aircraft from the World War I and World War II era. A farewell DINNER is included on our way home.\n\nMeals: B\, D\n\n \n\n \n\nTour includes: Round Trip Deluxe Motorcoach\, 3-nights Lodging at Wyndham Garden Hotel Downtown Norfolk\, VA\, 3 Buffet Breakfasts\, 3 Full Course Dinners including Captain George's Seafood Buffet & Spirit of Norfolk Dinner Cruise\, Performance of the Virginia International Tattoo Show\, Reserved Seats for the 71st Annual Parade of Nations\, NATO Fest Activities\, Admission to Nauticus\, including the Battleship Wisconsin & Hampton Roads Naval Museum\, MacArthur Memorial\, Chrysler Museum of Art\, Evening of Entertainment\, Souvenir Gift\, BLT Tote Bag\, Luggage Handling\, Water and Snacks on the Motorcoach\, Experienced and Knowledgeable Tour Representative\, and all Taxes.
X-ALT-DESC;FMTTYPE=text/html:<strong><span style="font-family:arial\,sans-serif"><span style="font-size:12.0pt">Bus Tour &ndash\; The Parade of Nations &amp\; Virginia International Tattoo</span></span></strong><br />\n<strong><span style="font-family:arial\,sans-serif"><span style="font-size:12.0pt">April 18-21\, 2024</span></span></strong><br />\n<br />\n<strong><span style="font-family:arial\,sans-serif"><span style="font-size:12.0pt">Bus Departs Willow Street\, Lancaster &amp\; York &nbsp\;PA</span></span></strong><br />\n<strong><span style="font-family:arial\,sans-serif"><span style="font-size:9.0pt">Approximate departure times\, Willow Street 6:30\, Lancaster 7:30\, and York 8:30 AM</span></span></strong><br />\n&nbsp\; &nbsp\;&nbsp\; &nbsp\;&nbsp\;<br />\n<span style="color:red"><span style="font-family:arial\,sans-serif"><span style="font-size:10.0pt">Join Bucket List Tours as we travel to Norfolk\, Virginia. Experiencing first-hand this thrill of fabulous pageantry and inspiring patriotism! This dazzling extravaganza of music\, ceremony\, and emotion at The Virginia International Tattoo Show! Enjoy the fabulous pageantry of Norfolk&rsquo\;s Parade of Nations from your reserved seat! Visit different countries at NATOfest\, then board the Spirit of Norfolk for a fantastic dinner cruise complete with entertainment. Touring the Nauticus and Battleship Wisconsin and more on this 4-day &ndash\; 3 night bus tour. </span></span></span><a href="https://www.vafest.org/tattoo"><span style="font-family:arial\,sans-serif"><span style="font-size:10.0pt">https://www.vafest.org/tattoo</span></span></a><br />\n<br />\n<br />\n<u><span style="color:black"><span style="font-family:arial\,sans-serif"><span style="font-size:10.0pt">Day #1</span></span></span></u><br />\n<span style="font-family:arial\,sans-serif"><span style="font-size:10.0pt">Your day starts with a </span></span><strong><span style="color:black"><span style="font-family:arial\,sans-serif"><span style="font-size:10.0pt">SWEET TREAT</span></span></span></strong> <span style="font-family:arial\,sans-serif"><span style="font-size:10.0pt">as we depart for Norfolk\, VA. Having a lunch stop is not included along the way. Our destination is the Hampton Roads region where our accommodations are at the </span></span><strong><span style="font-family:arial\,sans-serif"><span style="font-size:10.0pt">WYNDAM GARDEN DOWNTOWN HOTEL</span></span></strong><span style="font-family:arial\,sans-serif"><span style="font-size:10.0pt">.</span></span><span style="color:black"><span style="font-family:arial\,sans-serif"><span style="font-size:10.0pt"> After checking in you will have time to freshen up\, then enjoy an evening of </span></span></span><strong><span style="color:black"><span style="font-family:arial\,sans-serif"><span style="font-size:10.0pt">DINNER</span></span></span></strong><span style="color:black"><span style="font-family:arial\,sans-serif"><span style="font-size:10.0pt"> at a local venue with a </span></span></span><strong><span style="color:black"><span style="font-family:arial\,sans-serif"><span style="font-size:10.0pt">5-PIECE BAND</span></span></span></strong><span style="color:black"><span style="font-family:arial\,sans-serif"><span style="font-size:10.0pt"> Big Band 50-60&rsquo\;s music for your enjoyment.</span></span></span><br />\n<br />\n<strong><span style="color:black"><span style="font-family:arial\,sans-serif"><span style="font-size:10.0pt">Accommodations: </span></span></span></strong><span style="font-family:arial\,sans-serif"><span style="font-size:10.0pt">Wyndham Garden Norfolk Downtown\, 700 Monticello Avenue\, Norfolk\, VA 23510. Phone </span></span><span style="color:black"><span style="font-family:arial\,sans-serif"><span style="font-size:10.0pt">757-627-5555.</span></span></span><br />\n<strong><span style="color:windowtext"><span style="font-family:arial\,sans-serif"><span style="font-size:10.0pt">Meals: Sweet treat\, D</span></span></span></strong><br />\n&nbsp\;<br />\n<u><span style="color:black"><span style="font-family:arial\,sans-serif"><span style="font-size:10.0pt">Day #2 </span></span></span></u><br />\n&nbsp\;<br />\n<strong><span style="color:black"><span style="font-family:arial\,sans-serif"><span style="font-size:10.0pt">BREAKFAST</span></span></span></strong><span style="color:black"><span style="font-family:arial\,sans-serif"><span style="font-size:10.0pt"> this morning </span></span></span><span style="color:black"><span style="font-family:arial\,sans-serif"><span style="font-size:10.0pt">before traveling to <strong>NAUTICUS</strong>\, a maritime science museum. The museum celebrates the economic\, naval\, and natural power of the sea with exhibits\, films\, and the Hampton Roads Naval Museum. You are also welcome to go aboard the <strong>BATTLESHIP WISCONSIN</strong> which is connected to the museum. Explore the main deck and go below to learn what life was like on this great fighting lady. After your visit\, enjoy lunch on your own in the area. This afternoon you will visit the <strong>CHRYSLER MUSEUM OF ART</strong>\, one of America&rsquo\;s great fine arts museums including the collection of automobile heir and art collector\, Walter P. Chrysler\, Jr. After your visit\, board the <strong>SPIRIT OF NORFOLK</strong> for a <strong>BUFFET DINNER</strong>\, <strong>MUSIC</strong>\, and <strong>ENTERTAINMENT</strong> as you sail along the Elizabeth River. After the cruise\, continue to Scope Arena for a performance of the <strong>VIRGINIA INTERNATIONAL TATTOO</strong>. &ldquo\;Tattoo&rdquo\; refers to a Scottish Military last call\, when pipes and drums called troops back to post for an evening ceremony. Long regarded as the most patriotic of the world&rsquo\;s great tattoos\, the Virginia International Tattoo is a Scottish tradition with American Soul! The show will feature more than 1\,000 military and civilian performers from several nations who will share their unique music\, dance\, culture\, and pride with the audience as they showcase their individual excellence\, their esprit de corps\, and their friendship as nations. You will not only be entertained\, but you will be inspired when your hand touches your heart during the Star-Spangled Banner\, when you proudly stand during your family&rsquo\;s service song\, and when you rise in solemn prayer as hundreds of pipers\, military musicians\, and singers join together to perform <em>Amazing Grace</em>.</span></span></span><br />\n&nbsp\;<br />\n<strong><span style="color:black"><span style="font-family:arial\,sans-serif"><span style="font-size:10.0pt">Accommodations: </span></span></span></strong><span style="font-family:arial\,sans-serif"><span style="font-size:10.0pt">Wyndham Garden Norfolk Downtown\, Norfolk\, VA. &nbsp\;Phone </span></span><span style="color:black"><span style="font-family:arial\,sans-serif"><span style="font-size:10.0pt">757-627-5555.</span></span></span><br />\n<strong><span style="color:windowtext"><span style="font-family:arial\,sans-serif"><span style="font-size:10.0pt">Meals: D</span></span></span></strong><br />\n&nbsp\;<br />\n&nbsp\;<br />\n<u><span style="color:black"><span style="font-family:arial\,sans-serif"><span style="font-size:10.0pt">Day #3</span></span></span></u><br />\n&nbsp\;<br />\n<strong><span style="color:black"><span style="font-family:arial\,sans-serif"><span style="font-size:10.0pt">BREAKFAST</span></span></span></strong><span style="color:black"><span style="font-family:arial\,sans-serif"><span style="font-size:10.0pt"> this morning\, then depart for our reserved seats have been arranged for the <strong>71<sup>st</sup> ANNUAL PARADE OF</strong> <strong>NATIONS</strong>. Sponsored by NATO\, the parade includes themed floats from each participating country reflecting their culture and heritage. There are also marching bands\, antique &amp\; classic cars\, comic brigades\, and much more. After the parade\, enjoy the <strong>NATOfest</strong> activities in Town Point Park featuring booths representing each of the NATO countries\, entertainment\, activities\, and food vendors. There will be time for lunch on your own in the area\, then continue to the <strong>MacArthur MEMORIAL</strong> &ndash\; the final resting place of five-star general Douglas MacArthur. The memorial features mementos and gifts the famous general received throughout his career\, his staff car\, and a film on his life. After your visit\, return to the hotel for an opportunity to relax and freshen up before departing for <strong>CAPTAIN GEORGE&rsquo\;S SEAFOOD</strong> <strong>RESTAURANT</strong> for a fabulous <strong>SMORGASOARD DINNER</strong>.</span></span></span><br />\n&nbsp\;<br />\n<strong><span style="color:black"><span style="font-family:arial\,sans-serif"><span style="font-size:10.0pt">Accommodations: </span></span></span></strong><span style="font-family:arial\,sans-serif"><span style="font-size:10.0pt">Wyndham Garden Norfolk Downtown\, Norfolk\, VA. Phone </span></span><span style="color:black"><span style="font-family:arial\,sans-serif"><span style="font-size:10.0pt">757-627-5555.</span></span></span><br />\n<strong><span style="color:windowtext"><span style="font-family:arial\,sans-serif"><span style="font-size:10.0pt">Meals: D</span></span></span></strong><br />\n&nbsp\;&nbsp\;<br />\n<u><span style="color:black"><span style="font-family:arial\,sans-serif"><span style="font-size:10.0pt">Day #4</span></span></span></u><br />\n&nbsp\;<br />\n<strong><span style="color:black"><span style="font-family:arial\,sans-serif"><span style="font-size:10.0pt">BREAKFAST </span></span></span></strong><span style="color:black"><span style="font-family:arial\,sans-serif"><span style="font-size:10.0pt">this morning\, before departing to the <strong>MILITARY AVIATION MUSEUM</strong>\, located in Virginia Beach. The Military Aviation Museum is home to one of the world&rsquo\;s largest collections of flying vintage military aircraft. This</span></span></span><br />\n<span style="color:black"><span style="font-family:arial\,sans-serif"><span style="font-size:10.0pt">facility includes over 50 aircraft from the World War I and World War II era. A farewell <strong>DINNER</strong> is included on our way home.</span></span></span><br />\n<strong><span style="color:windowtext"><span style="font-family:arial\,sans-serif"><span style="font-size:10.0pt">Meals: B\, D</span></span></span></strong><br />\n&nbsp\;<br />\n&nbsp\;<br />\n<span style="font-size:10.0pt">Tour includes: Round Trip Deluxe Motorcoach\, 3-nights Lodging at Wyndham Garden Hotel Downtown Norfolk\, VA\, 3 Buffet Breakfasts\, 3 Full Course Dinners including Captain George&rsquo\;s Seafood Buffet &amp\; Spirit of Norfolk Dinner Cruise\, Performance of the Virginia International Tattoo Show\, Reserved Seats for the 71<sup>st</sup> Annual Parade of Nations\, NATO Fest Activities\, Admission to Nauticus\, including the Battleship Wisconsin &amp\; Hampton Roads Naval Museum\, MacArthur Memorial\, Chrysler Museum of Art\, Evening of Entertainment\, Souvenir Gift\, BLT Tote Bag\, Luggage Handling\, Water and Snacks on the Motorcoach\, Experienced and Knowledgeable Tour Representative\, and all Taxes. </span><br />\n&nbsp\;<br />\n&nbsp\;
LOCATION:Norfolk\, Virginia
UID:e.3375.1600
SEQUENCE:3
DTSTAMP:20260425T164603Z
URL:https://business.manheimchamber.com/events/details/bus-tour-international-tattoo-parade-of-nations-norfolk-va-1600
END:VEVENT

END:VCALENDAR
