BEGIN:VCALENDAR
VERSION:2.0
PRODID:-//ChamberMaster//Event Calendar 2.0//EN
METHOD:PUBLISH
X-PUBLISHED-TTL:P3D
REFRESH-INTERVAL:P3D
CALSCALE:GREGORIAN
BEGIN:VEVENT
DTSTART:20240430T130000Z
DTEND:20240430T230000Z
X-MICROSOFT-CDO-ALLDAYEVENT:FALSE
SUMMARY:Bus Tour – BEEHIVE The 60’s Musical
DESCRIPTION:Bus Tour   BEEHIVE The 60's Musical at Hunterdon Playhouse\, Hampton\, New Jersey\n\nTuesday\, April 30\, 2024\n\nBus departs Willow Street at 8:10\, Lancaster at 8:45\, and Ephrata at 9:10\n\n\n\nBeehive: The 60s Musical is a non-stop\, energetic celebration of six extraordinary women performing more than a dozen chart-toppers from Diana Ross\, The Supremes\, Tina Turner\, and more. Complete with big hairdos and 60's fashions\, this timeless production will have audiences of all ages singing along and shouting for more. https://www.hhplayhouse.com\n\n \n\nTour Includes: Roundtrip Deluxe Motorcoach transportation\, BEEHIVE THE 60'S MUSICAL\, Plated Served Lunch\, water & snacks on the motorcoach\, Knowledgeable and Experienced Tour Representative\, and all taxes. \n\n \n\nCost - Adults $199.00 Per Person
X-ALT-DESC;FMTTYPE=text/html:<strong><span style="color:windowtext"><span style="font-family:arial\,sans-serif"><span style="font-size:10.0pt">Bus Tour &ndash\; BEEHIVE The 60&rsquo\;s Musical at Hunterdon Playhouse\, Hampton\, New Jersey</span></span></span></strong><br />\n<strong><span style="color:red"><span style="font-family:arial\,sans-serif"><span style="font-size:10.0pt">Tuesday\, April 30\, 2024</span></span></span></strong><br />\n<strong><span style="color:windowtext"><span style="font-family:arial\,sans-serif"><span style="font-size:10.0pt">Bus departs Willow Street at 8:10\, Lancaster at 8:45\, and Ephrata at 9:10</span></span></span></strong><br />\n<br />\n<span style="color:black"><span style="font-family:arial\,sans-serif"><span style="font-size:10.0pt">Beehive: The 60s Musical is a non-stop\, energetic celebration of six extraordinary women performing more than a dozen chart-toppers from Diana Ross\, The Supremes\, Tina Turner\, and more. Complete with big hairdos and 60&rsquo\;s fashions\, this timeless production will have audiences of all ages singing along and shouting for more. <a href="https://www.hhplayhouse.com/">https://www.hhplayhouse.com</a></span></span></span><br />\n&nbsp\;<br />\n<span style="color:black"><span style="font-family:arial\,sans-serif"><span style="font-size:10.0pt">Tour Includes: Roundtrip Deluxe Motorcoach transportation\, BEEHIVE THE 60&rsquo\;S MUSICAL\, Plated Served Lunch\, water &amp\; snacks on the motorcoach\, Knowledgeable and Experienced Tour Representative\, and all taxes. </span></span></span><br />\n&nbsp\;<br />\n<span style="font-size:10.0pt">Cost - </span><span style="color:black"><span style="font-size:10.0pt">Adults $</span></span><span style="color:windowtext"><span style="font-size:10.0pt">199</span></span><span style="color:black"><span style="font-size:10.0pt">.00 Per Person </span></span>
LOCATION:Hunterdon Playhouse\, Hampton\, New Jersey
UID:e.3375.1620
SEQUENCE:3
DTSTAMP:20260425T162727Z
URL:https://business.manheimchamber.com/events/details/bus-tour-beehive-the-60-s-musical-1620
END:VEVENT

END:VCALENDAR
