BEGIN:VCALENDAR
VERSION:2.0
PRODID:-//ChamberMaster//Event Calendar 2.0//EN
METHOD:PUBLISH
X-PUBLISHED-TTL:P3D
REFRESH-INTERVAL:P3D
CALSCALE:GREGORIAN
BEGIN:VEVENT
DTSTART:20250104T140000Z
DTEND:20250105T021500Z
X-MICROSOFT-CDO-ALLDAYEVENT:FALSE
SUMMARY:Burke & Poppy Ribbon Cutting
DESCRIPTION:You're invited to the Ribbon Cutting Ceremony for\n\nBurke & Poppy!\n\nOwners\, Austen and Raya Lambert\, \n\nwelcome you to their new space during their \n\nOpen House on 1/4/25 from 9:00- 5:00. \n\nCoffee\, soda\, water and some refreshments will be available.\n \n\nWelcome to Burke & Poppy Studio\, a unique and elegant event space carefully designed for intimate gatherings and celebrations. With accommodations for up to 50 guests\, we provide a blank canvas for you to create unforgettable memories. We also offer a variety of customizable design elements\, including various options of tables\, chairs\, vases\, candles\, and more. Our space is perfect for birthday parties\, corporate events\, and social gatherings of all kinds. As a seasoned florist\, Raya Lambert is dedicated to crafting breathtaking centerpieces and installations that will elevate your event's aesthetic and leave a lasting impression on your guests.\n \n\nFor comments and questions\, please contact Austen Lambert at ahlambert1@gmail.com
X-ALT-DESC;FMTTYPE=text/html:<p dir="ltr" style="line-height:1.38\;text-align: center\;margin-top:0pt\;margin-bottom:0pt\;"><span id="docs-internal-guid-97c92dbb-7fff-dc7a-16a0-a07a1662bbb4"><span style="font-size: 12pt\; font-family: Arial\, sans-serif\; font-variant-numeric: normal\; font-variant-east-asian: normal\; font-variant-alternates: normal\; font-variant-position: normal\; font-variant-emoji: normal\; vertical-align: baseline\; white-space-collapse: preserve\;">You&rsquo\;re invited to the Ribbon Cutting Ceremony for</span></span></p>\n\n<p dir="ltr" style="line-height:1.38\;text-align: center\;margin-top:0pt\;margin-bottom:0pt\;"><span id="docs-internal-guid-97c92dbb-7fff-dc7a-16a0-a07a1662bbb4"><span style="font-size: 12pt\; font-family: Arial\, sans-serif\; font-weight: 700\; font-variant-numeric: normal\; font-variant-east-asian: normal\; font-variant-alternates: normal\; font-variant-position: normal\; font-variant-emoji: normal\; vertical-align: baseline\; white-space-collapse: preserve\;">Burke &amp\; Poppy!</span></span></p>\n\n<p dir="ltr" style="line-height:1.38\;text-align: center\;margin-top:0pt\;margin-bottom:0pt\;"><span id="docs-internal-guid-97c92dbb-7fff-dc7a-16a0-a07a1662bbb4"><span style="font-size: 12pt\; font-family: Arial\, sans-serif\; font-variant-numeric: normal\; font-variant-east-asian: normal\; font-variant-alternates: normal\; font-variant-position: normal\; font-variant-emoji: normal\; vertical-align: baseline\; white-space-collapse: preserve\;">Owners\, Austen and Raya Lambert\,&nbsp\;</span></span></p>\n\n<p dir="ltr" style="line-height:1.38\;text-align: center\;margin-top:0pt\;margin-bottom:0pt\;"><span id="docs-internal-guid-97c92dbb-7fff-dc7a-16a0-a07a1662bbb4"><span style="font-size: 12pt\; font-family: Arial\, sans-serif\; font-variant-numeric: normal\; font-variant-east-asian: normal\; font-variant-alternates: normal\; font-variant-position: normal\; font-variant-emoji: normal\; vertical-align: baseline\; white-space-collapse: preserve\;">welcome you to their new space during their&nbsp\;</span></span></p>\n\n<p dir="ltr" style="line-height:1.38\;text-align: center\;margin-top:0pt\;margin-bottom:0pt\;"><span id="docs-internal-guid-97c92dbb-7fff-dc7a-16a0-a07a1662bbb4"><span style="font-size: 12pt\; font-family: Arial\, sans-serif\; font-variant-numeric: normal\; font-variant-east-asian: normal\; font-variant-alternates: normal\; font-variant-position: normal\; font-variant-emoji: normal\; vertical-align: baseline\; white-space-collapse: preserve\;">Open House on 1/4/25 from 9:00- 5:00.&nbsp\;</span></span></p>\n\n<p dir="ltr" style="line-height:1.38\;text-align: center\;margin-top:0pt\;margin-bottom:0pt\;"><span id="docs-internal-guid-97c92dbb-7fff-dc7a-16a0-a07a1662bbb4"><span style="font-size: 12pt\; font-family: Arial\, sans-serif\; font-variant-numeric: normal\; font-variant-east-asian: normal\; font-variant-alternates: normal\; font-variant-position: normal\; font-variant-emoji: normal\; vertical-align: baseline\; white-space-collapse: preserve\;">Coffee\, soda\, water and some refreshments will be available.</span></span></p>\n&nbsp\;\n\n<p dir="ltr" style="line-height:1.38\;text-align: center\;margin-top:0pt\;margin-bottom:0pt\;"><span id="docs-internal-guid-97c92dbb-7fff-dc7a-16a0-a07a1662bbb4"><span style="font-size: 12pt\; font-family: Arial\, sans-serif\; font-variant-numeric: normal\; font-variant-east-asian: normal\; font-variant-alternates: normal\; font-variant-position: normal\; font-variant-emoji: normal\; vertical-align: baseline\; white-space-collapse: preserve\;">Welcome to Burke &amp\; Poppy Studio\, a unique and elegant event space carefully designed for intimate gatherings and celebrations. With accommodations for up to 50 guests\, we provide a blank canvas for you to create unforgettable memories. We also offer a variety of customizable design elements\, including various options of tables\, chairs\, vases\, candles\, and more. Our space is perfect for birthday parties\, corporate events\, and social gatherings of all kinds. As a seasoned florist\, Raya Lambert is dedicated to crafting breathtaking centerpieces and installations that will elevate your event&#39\;s aesthetic and leave a lasting impression on your guests.</span></span></p>\n&nbsp\;\n\n<p dir="ltr" style="line-height:1.38\;text-align: center\;margin-top:0pt\;margin-bottom:0pt\;"><span id="docs-internal-guid-97c92dbb-7fff-dc7a-16a0-a07a1662bbb4"><span style="font-size: 12pt\; font-family: Arial\, sans-serif\; font-variant-numeric: normal\; font-variant-east-asian: normal\; font-variant-alternates: normal\; font-variant-position: normal\; font-variant-emoji: normal\; vertical-align: baseline\; white-space-collapse: preserve\;">For comments and questions\, please contact Austen Lambert at </span><a href="mailto:ahlambert1@gmail.com" style="text-decoration-line: none\;"><span style="font-size: 11pt\; font-family: Arial\, sans-serif\; color: rgb(17\, 85\, 204)\; background-color: rgb(255\, 255\, 255)\; font-variant-numeric: normal\; font-variant-east-asian: normal\; font-variant-alternates: normal\; font-variant-position: normal\; font-variant-emoji: normal\; text-decoration-line: underline\; text-decoration-skip-ink: none\; vertical-align: baseline\; white-space-collapse: preserve\;">ahlambert1@gmail.com</span></a></span></p>\n\n<div>&nbsp\;</div>\n
LOCATION:25 S. Main Street\, Manheim
UID:e.3375.1734
SEQUENCE:3
DTSTAMP:20260425T005524Z
URL:https://business.manheimchamber.com/events/details/burke-poppy-ribbon-cutting-1734
END:VEVENT

END:VCALENDAR
