BEGIN:VCALENDAR
VERSION:2.0
PRODID:-//ChamberMaster//Event Calendar 2.0//EN
METHOD:PUBLISH
X-PUBLISHED-TTL:P3D
REFRESH-INTERVAL:P3D
CALSCALE:GREGORIAN
BEGIN:VEVENT
DTSTART:20240404T210000Z
DTEND:20240405T000000Z
X-MICROSOFT-CDO-ALLDAYEVENT:FALSE
SUMMARY:1st Thursday
DESCRIPTION:We are excited to bring back 1st Thursday celebrations for 2024! It all happens between 5:00 pm and 8:00 pm with businesses both inside and outside of the downtown Manheim area staying open late. There will be live music\, outdoor vendors\, food trucks\, and a variety of special activities.\n\nExperience the revitalized downtown area with fantastic established businesses and a host of exciting new establishments. Main Street and Market Square will be filled with an entertaining variety of sights\, sounds\, tastes\, and activities.\n\n\n\nFeatured activity: Join us at Cottage & Vine at 10 Market Square for a hands-on potting bar! We'll be giving away the first 20 potted plants (one per family\, please) for FREE! A $10 potting bar will be available for the event\, while supplies last.\n\nDetails for visitors and for those wanting to get involved can be found at https://lovemanheim.com/1st-thursday-april/
X-ALT-DESC;FMTTYPE=text/html:<div class="kvgmc6g5 cxmmr5t8 oygrvhab hcukyx3x c1et5uql" style="overflow-wrap: break-word\; margin: 0px\; font-family: &quot\;Segoe UI Historic&quot\;\, &quot\;Segoe UI&quot\;\, Helvetica\, Arial\, sans-serif\; color: rgb(5\, 5\, 5)\; font-size: 15px\; background-color: rgb(255\, 255\, 255)\;">We are excited to bring back 1st Thursday&nbsp\;celebrations for 2024! It all happens between 5:00 pm and 8:00 pm with businesses both inside and outside of the downtown Manheim area staying open late. There will be live music\, outdoor vendors\, food trucks\, and a variety of special activities.</div>\n\n<div class="o9v6fnle cxmmr5t8 oygrvhab hcukyx3x c1et5uql" style="overflow-wrap: break-word\; margin: 0.5em 0px 0px\; font-family: &quot\;Segoe UI Historic&quot\;\, &quot\;Segoe UI&quot\;\, Helvetica\, Arial\, sans-serif\; color: rgb(5\, 5\, 5)\; font-size: 15px\; background-color: rgb(255\, 255\, 255)\;">Experience the revitalized downtown area with fantastic established businesses and a host of exciting new establishments. Main Street and Market Square will be filled with an entertaining variety of sights\, sounds\, tastes\, and activities.<br />\n<br />\n<span style="color: rgb(5\, 5\, 5)\; font-family: &quot\;Segoe UI Historic&quot\;\, &quot\;Segoe UI&quot\;\, Helvetica\, Arial\, sans-serif\; font-size: 15px\; background-color: rgb(255\, 255\, 255)\;">Featured activity: Join us at Cottage &amp\; Vine at 10 Market Square for a hands-on potting bar! We&#39\;ll be giving away the first 20 potted plants (one per family\, please) for FREE! A $10 potting bar will be available for the event\, while supplies last.</span></div>\n\n<div class="o9v6fnle cxmmr5t8 oygrvhab hcukyx3x c1et5uql" style="overflow-wrap: break-word\; margin: 0.5em 0px 0px\; font-family: &quot\;Segoe UI Historic&quot\;\, &quot\;Segoe UI&quot\;\, Helvetica\, Arial\, sans-serif\; color: rgb(5\, 5\, 5)\; font-size: 15px\; background-color: rgb(255\, 255\, 255)\;">Details for visitors and for those wanting to get involved can be found at&nbsp\;<a href="https://lovemanheim.com/1st-thursday-april/">https://lovemanheim.com/1st-thursday-april/</a></div>\n
LOCATION:Downtown Manheim
UID:e.3375.1559
SEQUENCE:3
DTSTAMP:20260425T162417Z
URL:https://business.manheimchamber.com/events/details/1st-thursday-1559
END:VEVENT

END:VCALENDAR
